BEGIN:VCALENDAR
VERSION:2.0
PRODID:-//Walnut Tree Inn, Northampton - ECPv6.15.11//NONSGML v1.0//EN
CALSCALE:GREGORIAN
METHOD:PUBLISH
X-ORIGINAL-URL:https://www.walnut-tree.co.uk
X-WR-CALDESC:Events for Walnut Tree Inn, Northampton
REFRESH-INTERVAL;VALUE=DURATION:PT1H
X-Robots-Tag:noindex
X-PUBLISHED-TTL:PT1H
BEGIN:VTIMEZONE
TZID:UTC
BEGIN:STANDARD
TZOFFSETFROM:+0000
TZOFFSETTO:+0000
TZNAME:UTC
DTSTART:20180101T000000
END:STANDARD
END:VTIMEZONE
BEGIN:VEVENT
DTSTART;TZID=UTC:20190727T210000
DTEND;TZID=UTC:20190728T000000
DTSTAMP:20260423T182139
CREATED:20190326T182708Z
LAST-MODIFIED:20190326T182708Z
UID:10000672-1564261200-1564272000@www.walnut-tree.co.uk
SUMMARY:Irene Rae
DESCRIPTION:Irene Rae mixes emotional lyrics and a powerful yet delicate vocal with entertaining and funny stories about life\, love and places her travels have taken her. She support artists that include Midge Ure\, Hazel O’Connor\, John Power\, The Levellers (acoustic)\, The Jigantics and Declan Bennett. Irene’s style and lyrics have been compared to Norah Jones\, Natalie Merchant\, Eddi Reader\, Lisa Loeb and Bic Runga whilst remaining uniquely her own. \n2019 sees the release of ”The Light Game” – the first full band album by Irene Rae featuring ten songs that showcase her delicate\, yet powerful voice combined with raw and honest songwriting. The record was conceived from a determination to capture the essence and intimacy of her live shows.
URL:https://www.walnut-tree.co.uk/event/irene-rae/
LOCATION:Walnut Tree Inn\, 21 Station Road\, Blisworth\, Northants\, NN7 3DS\, United Kingdom
CATEGORIES:Featured Event,Live Music
ATTACH;FMTTYPE=:
END:VEVENT
BEGIN:VEVENT
DTSTART;TZID=UTC:20190728T200000
DTEND;TZID=UTC:20190728T220000
DTSTAMP:20260423T182139
CREATED:20190212T122252Z
LAST-MODIFIED:20190212T122252Z
UID:10000630-1564344000-1564351200@www.walnut-tree.co.uk
SUMMARY:Quiz Night
DESCRIPTION:Last Sunday of the month.\nCome and join in our quiz on the last Sunday of every month @ 8pm with Chris and Debbie. \nEntry is £1 per person and teams of up to 4 people are welcome. There is a cash prize for the winner and a round of drinks for the winner of the Landlord’s Round. \nWe serve Roast dinners and other light meals until 8.30pm\, so why not book an early table for dinner?
URL:https://www.walnut-tree.co.uk/event/quiz-night-2019-07-28/
LOCATION:Walnut Tree Inn\, 21 Station Road\, Blisworth\, Northants\, NN7 3DS\, United Kingdom
CATEGORIES:Featured Event,Quiz Nights
ATTACH;FMTTYPE=:
END:VEVENT
END:VCALENDAR