BEGIN:VCALENDAR
VERSION:2.0
PRODID:-//Walnut Tree Inn, Northampton - ECPv6.15.11//NONSGML v1.0//EN
CALSCALE:GREGORIAN
METHOD:PUBLISH
X-ORIGINAL-URL:https://www.walnut-tree.co.uk
X-WR-CALDESC:Events for Walnut Tree Inn, Northampton
REFRESH-INTERVAL;VALUE=DURATION:PT1H
X-Robots-Tag:noindex
X-PUBLISHED-TTL:PT1H
BEGIN:VTIMEZONE
TZID:UTC
BEGIN:STANDARD
TZOFFSETFROM:+0000
TZOFFSETTO:+0000
TZNAME:UTC
DTSTART:20180101T000000
END:STANDARD
END:VTIMEZONE
BEGIN:VEVENT
DTSTART;TZID=UTC:20190801T200000
DTEND;TZID=UTC:20190801T230000
DTSTAMP:20260423T164436
CREATED:20190327T180240Z
LAST-MODIFIED:20190327T180240Z
UID:10000687-1564689600-1564700400@www.walnut-tree.co.uk
SUMMARY:Acoustic Sessions
DESCRIPTION:Come and listen to some exciting live acoustic music featuring various artists with a changing line-up each month. The monthly sessions feature musicians performing cover songs as well as original compositions. \nHosted by Hannah Faulkner. Admission free.
URL:https://www.walnut-tree.co.uk/event/acoustic-sessions-2019-08-01/
LOCATION:Walnut Tree Inn\, 21 Station Road\, Blisworth\, Northants\, NN7 3DS\, United Kingdom
CATEGORIES:Featured Event,Live Music
ATTACH;FMTTYPE=:
END:VEVENT
BEGIN:VEVENT
DTSTART;TZID=UTC:20190810T120000
DTEND;TZID=UTC:20190811T170000
DTSTAMP:20260423T164436
CREATED:20190720T171334Z
LAST-MODIFIED:20190720T171334Z
UID:10000701-1565438400-1565542800@www.walnut-tree.co.uk
SUMMARY:Beer\, Gin and Music Weekend
DESCRIPTION:We have some great music for you this weekend with Mark Wright at 3pm on Saturday 10th August followed by The Mike Gibbons Band at 9pm. On Sunday 11th August\, Kelly Jane will be on at 3pm. \nLocal real ales will be available for only £3.50 a pint and Premium Gin and Tonic Cocktails for just £5 (£7.00 for a double). \nQuality food will be on offer throughout.
URL:https://www.walnut-tree.co.uk/event/beer-gin-and-music-weekend/
LOCATION:Walnut Tree Inn\, 21 Station Road\, Blisworth\, Northants\, NN7 3DS\, United Kingdom
CATEGORIES:Featured Event,Special Events
ATTACH;FMTTYPE=:
END:VEVENT
BEGIN:VEVENT
DTSTART;TZID=UTC:20190810T150000
DTEND;TZID=UTC:20190810T170000
DTSTAMP:20260423T164436
CREATED:20190720T165021Z
LAST-MODIFIED:20190720T165021Z
UID:10000700-1565449200-1565456400@www.walnut-tree.co.uk
SUMMARY:Mark Wright
DESCRIPTION:Former Pure Genius frontman\, doing what he does so well! An acoustic set featuring some great rock and pop covers guaranteed to entertain!
URL:https://www.walnut-tree.co.uk/event/mark-wright/
LOCATION:Walnut Tree Inn\, 21 Station Road\, Blisworth\, Northants\, NN7 3DS\, United Kingdom
CATEGORIES:Featured Event,Live Music
ATTACH;FMTTYPE=:
END:VEVENT
BEGIN:VEVENT
DTSTART;TZID=UTC:20190811T150000
DTEND;TZID=UTC:20190811T170000
DTSTAMP:20260423T164436
CREATED:20190720T162923Z
LAST-MODIFIED:20190720T162923Z
UID:10000699-1565535600-1565542800@www.walnut-tree.co.uk
SUMMARY:Kelly Jane
DESCRIPTION:Kelly Jane is a singer / songwriter from Northamptonshire whose fusion of pop\, jazz\, soul and fiery Latin flavours offers a sound that’s as refreshing as it is infectious. \nAt the age of 13 Kelly took up guitar to support her singing and soon found a passion for writing music. Whilst studying at the British Institute of Modern Music she formed her current live band\, who together explored different styles and textures to bring Kelly’s songs to life. \nKelly recorded her debut EP ‘Took Some Time‘ in 2017 with producer Jamie Ward (Maybeshewill\, Gallops) and it was released independently on 12th December 2017.
URL:https://www.walnut-tree.co.uk/event/kelly-jane/
LOCATION:Walnut Tree Inn\, 21 Station Road\, Blisworth\, Northants\, NN7 3DS\, United Kingdom
CATEGORIES:Featured Event,Live Music
ATTACH;FMTTYPE=:
END:VEVENT
BEGIN:VEVENT
DTSTART;TZID=UTC:20190817T210000
DTEND;TZID=UTC:20190818T000000
DTSTAMP:20260423T164436
CREATED:20190326T184249Z
LAST-MODIFIED:20190326T184249Z
UID:10000675-1566075600-1566086400@www.walnut-tree.co.uk
SUMMARY:Little Pig
DESCRIPTION:A five-piece prog rock band based in Milton Keynes who perform the music of 70’s bands including Pink Floyd\, Genesis\, Led Zeppelin and Barclay James Harvest.
URL:https://www.walnut-tree.co.uk/event/little-pig/
LOCATION:Walnut Tree Inn\, 21 Station Road\, Blisworth\, Northants\, NN7 3DS\, United Kingdom
CATEGORIES:Featured Event,Live Music
ATTACH;FMTTYPE=:
END:VEVENT
BEGIN:VEVENT
DTSTART;TZID=UTC:20190825T200000
DTEND;TZID=UTC:20190825T220000
DTSTAMP:20260423T164436
CREATED:20190212T122252Z
LAST-MODIFIED:20190212T122252Z
UID:10000631-1566763200-1566770400@www.walnut-tree.co.uk
SUMMARY:Quiz Night
DESCRIPTION:Last Sunday of the month.\nCome and join in our quiz on the last Sunday of every month @ 8pm with Chris and Debbie. \nEntry is £1 per person and teams of up to 4 people are welcome. There is a cash prize for the winner and a round of drinks for the winner of the Landlord’s Round.
URL:https://www.walnut-tree.co.uk/event/quiz-night-2019-08-25/
LOCATION:Walnut Tree Inn\, 21 Station Road\, Blisworth\, Northants\, NN7 3DS\, United Kingdom
CATEGORIES:Featured Event,Quiz Nights
ATTACH;FMTTYPE=:
END:VEVENT
BEGIN:VEVENT
DTSTART;TZID=UTC:20190831T210000
DTEND;TZID=UTC:20190901T000000
DTSTAMP:20260423T164436
CREATED:20190326T185504Z
LAST-MODIFIED:20190326T185504Z
UID:10000565-1567285200-1567296000@www.walnut-tree.co.uk
SUMMARY:Bite Me
DESCRIPTION:A six-piece female fronted rock band from Buckinghamshire. Led by the powerful vocals of Cat Rivers\, the band move swiftly through a slick collection of classic and current rock songs from Bon Jovi and Bryan Adams to Pink and Alannah Myles and from Thin Lizzy and Whitesnake to the Foo Fighters and Nickelback. \nIn 2012\, the band recorded a five track EP of cover songs. In 2013\, they won the RPI-X Factor Battle of the Bands competition and received a studio recording session which allowed them to record five more song tracks for Soundcloud which can be heard via a link on their website.
URL:https://www.walnut-tree.co.uk/event/bite-me/
LOCATION:Walnut Tree Inn\, 21 Station Road\, Blisworth\, Northants\, NN7 3DS\, United Kingdom
CATEGORIES:Featured Event,Live Music
ATTACH;FMTTYPE=image/jpeg:https://www.walnut-tree.co.uk/wp-content/uploads/2021/02/weddimginsert3.jpg
END:VEVENT
END:VCALENDAR