BEGIN:VCALENDAR
VERSION:2.0
PRODID:-//Walnut Tree Inn, Northampton - ECPv6.15.11//NONSGML v1.0//EN
CALSCALE:GREGORIAN
METHOD:PUBLISH
X-ORIGINAL-URL:https://www.walnut-tree.co.uk
X-WR-CALDESC:Events for Walnut Tree Inn, Northampton
REFRESH-INTERVAL;VALUE=DURATION:PT1H
X-Robots-Tag:noindex
X-PUBLISHED-TTL:PT1H
BEGIN:VTIMEZONE
TZID:UTC
BEGIN:STANDARD
TZOFFSETFROM:+0000
TZOFFSETTO:+0000
TZNAME:UTC
DTSTART:20180101T000000
END:STANDARD
END:VTIMEZONE
BEGIN:VEVENT
DTSTART;TZID=UTC:20190905T200000
DTEND;TZID=UTC:20190905T230000
DTSTAMP:20260423T151650
CREATED:20190327T180240Z
LAST-MODIFIED:20190327T180240Z
UID:10000688-1567713600-1567724400@www.walnut-tree.co.uk
SUMMARY:Acoustic Sessions
DESCRIPTION:Come and listen to some exciting live acoustic music featuring various artists with a changing line-up each month. The monthly sessions feature musicians performing cover songs as well as original compositions. \nHosted by Hannah Faulkner. Admission free.
URL:https://www.walnut-tree.co.uk/event/acoustic-sessions-2019-09-05/
LOCATION:Walnut Tree Inn\, 21 Station Road\, Blisworth\, Northants\, NN7 3DS\, United Kingdom
CATEGORIES:Featured Event,Live Music
ATTACH;FMTTYPE=:
END:VEVENT
BEGIN:VEVENT
DTSTART;TZID=UTC:20190926T200000
DTEND;TZID=UTC:20190926T233000
DTSTAMP:20260423T151650
CREATED:20190507T170931Z
LAST-MODIFIED:20190507T170931Z
UID:10000583-1569528000-1569540600@www.walnut-tree.co.uk
SUMMARY:Mandy Muden + Lloyd Griffith
DESCRIPTION:[vc_row][vc_column width=”1/2″][vc_single_image source=”featured_image” img_size=”full”][vc_column_text]MANDY MUDEN is a skilled Magician (Close-up and Cabaret)\, Comedienne\, presenter and actress. Semi-finalist in 2018 “Britain’s Got Talent”\, she is one of the World’s finest female Close-up and Cabaret Magicians. Her skilled sleight of hand and sharp humour is sure to make any event one to be remembered. \nMandy is one on her own. The only woman ever to combine comedy and magic on the UK Comedy and Corporate circuits. She has a striking personality with a razor-sharp wit and so creates a fantastic rapport\, offering a great line in audience participation. \nHer TV credits include: “Celebrity Ready Steady Cook”\, “Come Dine with Me” and “Faking It” and regularly appears in stage productions. \n“Mandy is a very clever funny magician”\nDaily Mail \n“The lovely Mandy updates Magic with a camp bitch slant she’‘ll win you over in a flash”\nAttitude Magazine \n“Imagine a sexy Tommy Cooper minus the Fez”\nEvening Standard[/vc_column_text][dt_default_button bg_hover_color=”#ffffff” border_radius=”0px” border_width=”0px” button_padding=”8px 14px 8px 14px” default_btn_bg_color=”rgba(0\,0\,0\,0.77)” font_size=”13″ icon_size=”13″ link=”url:https%3A%2F%2Fwww.mandymudenmagic.com||target:%20_blank|” size=”custom” text_color=”#ffffff” text_hover_color=”#000000″]Visit website[/dt_default_button][/vc_column][vc_column width=”1/2″][vc_single_image image=”6140″ img_size=”full”][vc_column_text]LLOYD GRIFFITH is a comedian\, a choirboy and an ‘aspiring’ goalkeeper. Recently he fronted a show on BBC called ‘Can You Beat The Bookies?’ You may have seen Lloyd on Soccer AM on Sky Sports and also as the co-host of FLINCH on Netflix. \nOther TV credits include 8 Out Of 10 Cats (Channel 4)\, Bounty Hunters (Sky)\, Comedy Central Live at The Comedy Store (Comedy Central)\, Roast Battle (Comedy Central)\, Drunk History (Comedy Central)\, Taxi To Training (BBC3)\, Football’s Funniest Moments (Sky)\, The Premier League Show (BBC2) and many more. \nHe recently supported Jack Whitehall and Rob Beckett on their respective sold-out UK tours including dates at Liverpool Echo\, Newcastle Metro\, Manchester\, Leeds and Wembley Arenas and Hammersmith Apollo. Lloyd had to extend his first UK tour into 2018 after the 2017 leg sold out and is currently on his 2019 tour All:Rounder. \n“Supersub Lloyd Griffith delivered some punchy gags about growing up in Grimsby. He also revealed a jaw-dropping singing voice. Expect to hear more from Griffith”\nEvening Standard \n“Disarmingly good”\nThe Times \n“Inherently funny…very neat lines in his comic repertoire”\nChortle \n(replaces Jeff Innocent who has had to postpone)[/vc_column_text][dt_default_button bg_hover_color=”#ffffff” border_radius=”0px” border_width=”0px” button_padding=”8px 14px 8px 14px” default_btn_bg_color=”rgba(0\,0\,0\,0.77)” font_size=”13″ icon_size=”13″ link=”url:https%3A%2F%2Flloydgriffith.com%2F%23page||target:%20_blank|” size=”custom” text_color=”#ffffff” text_hover_color=”#000000″]Visit website[/dt_default_button][/vc_column][/vc_row]
URL:https://www.walnut-tree.co.uk/event/mandy-muden-lloyd-griffith/
LOCATION:Walnut Tree Inn\, 21 Station Road\, Blisworth\, Northants\, NN7 3DS\, United Kingdom
CATEGORIES:Featured Event,Live Comedy
ATTACH;FMTTYPE=:
END:VEVENT
BEGIN:VEVENT
DTSTART;TZID=UTC:20190929T200000
DTEND;TZID=UTC:20190929T220000
DTSTAMP:20260423T151650
CREATED:20190212T122252Z
LAST-MODIFIED:20190212T122252Z
UID:10000632-1569787200-1569794400@www.walnut-tree.co.uk
SUMMARY:Quiz Night
DESCRIPTION:Last Sunday of the month.\nCome and join in our quiz on the last Sunday of every month @ 8pm with Chris and Debbie. \nEntry is £1 per person and teams of up to 4 people are welcome. There is a cash prize for the winner and a round of drinks for the winner of the Landlord’s Round.
URL:https://www.walnut-tree.co.uk/event/quiz-night-2019-09-29/
LOCATION:Walnut Tree Inn\, 21 Station Road\, Blisworth\, Northants\, NN7 3DS\, United Kingdom
CATEGORIES:Featured Event,Quiz Nights
ATTACH;FMTTYPE=:
END:VEVENT
END:VCALENDAR