BEGIN:VCALENDAR
VERSION:2.0
PRODID:-//Walnut Tree Inn, Northampton - ECPv6.15.11//NONSGML v1.0//EN
CALSCALE:GREGORIAN
METHOD:PUBLISH
X-ORIGINAL-URL:https://www.walnut-tree.co.uk
X-WR-CALDESC:Events for Walnut Tree Inn, Northampton
REFRESH-INTERVAL;VALUE=DURATION:PT1H
X-Robots-Tag:noindex
X-PUBLISHED-TTL:PT1H
BEGIN:VTIMEZONE
TZID:UTC
BEGIN:STANDARD
TZOFFSETFROM:+0000
TZOFFSETTO:+0000
TZNAME:UTC
DTSTART:20180101T000000
END:STANDARD
END:VTIMEZONE
BEGIN:VEVENT
DTSTART;TZID=UTC:20191207T210000
DTEND;TZID=UTC:20191208T000000
DTSTAMP:20260423T102749
CREATED:20190531T133606Z
LAST-MODIFIED:20190531T133606Z
UID:10000692-1575752400-1575763200@www.walnut-tree.co.uk
SUMMARY:FUN.K
DESCRIPTION:Northants based six-piece function band performing 70’s and beyond soul\, disco and funk music.  Lead vocals and harmonies are shared by two female singers.  Artists covered include Martha & The Vandellas\, Stevie Wonder\, Sister Sledge\, Rose Royce\, Candi Staton\, Heatwave\, Earth Wind & Fire\, Kool & The Gang\, Chic\, The Trammps\, Average White Band and Brother Strut.
URL:https://www.walnut-tree.co.uk/event/fun-k-2/
LOCATION:Walnut Tree Inn\, 21 Station Road\, Blisworth\, Northants\, NN7 3DS\, United Kingdom
CATEGORIES:Featured Event,Live Music
ATTACH;FMTTYPE=image/png:https://www.walnut-tree.co.uk/wp-content/uploads/2021/03/food-gallery-previewAsset-10.png
END:VEVENT
BEGIN:VEVENT
DTSTART;TZID=UTC:20191214T210000
DTEND;TZID=UTC:20191215T000000
DTSTAMP:20260423T102749
CREATED:20190328T121938Z
LAST-MODIFIED:20190328T121938Z
UID:10000579-1576357200-1576368000@www.walnut-tree.co.uk
SUMMARY:Rhythm and Roots
DESCRIPTION:A four-piece band from Northants performing mainly reggae plus some classic soul and Motown songs. \nTheir repertoire includes Bob Marley\, Gregory Isaacs\, Desmond Decker\, Jimmy Cliff\, Toots & the Maytals\, Sam Cooke\, The Drifters\, Bill Withers\, Wilson Pickett\, Ben E King\, UB40\, The Specials\, Sting and The Zutons.
URL:https://www.walnut-tree.co.uk/event/rhythm-and-roots-2/
LOCATION:Walnut Tree Inn\, 21 Station Road\, Blisworth\, Northants\, NN7 3DS\, United Kingdom
CATEGORIES:Featured Event,Live Music
ATTACH;FMTTYPE=:
END:VEVENT
BEGIN:VEVENT
DTSTART;TZID=UTC:20191227T200000
DTEND;TZID=UTC:20191227T233000
DTSTAMP:20260423T102749
CREATED:20190613T180751Z
LAST-MODIFIED:20190613T180751Z
UID:10000695-1577476800-1577489400@www.walnut-tree.co.uk
SUMMARY:Andy Askins + Sean Collins
DESCRIPTION:[vc_row][vc_column width=”1/2″][vc_single_image source=”featured_image” img_size=”full”][vc_column_text]ANDY ASKINS is a diminutive figure who exudes an air of vulnerability as he steps up to the microphone armed with a guitar and a cheeky grin. It’s an overwhelmingly misleading demeanour which serves to heighten the impact of the killer lines that he delivers. \nAndy has an expertly crafted routine littered with an eclectic mix of offbeat original comic songs and parodies. A talented musician with a captivating voice\, popular songs have been re-written and given a perverse twist to tremendous comic effect. With a wickedly dry sense of humour\, Andy’s darker material is sweetened by his innocent and impish demeanour which never fails to leave audiences in the palm of his hand. With impeccable timing\, the inventive and quirky songs are peppered with inspired patter – the material is as strong as the songs and delivered in an inimitable modest and self-deprecating style. \nOn TV screens\, Andy was recently invited to appear on The John Bishop Show\, performing a storming set at the Hackney Empire\, alongside a stellar line-up from the worlds of comedy and music. \n“Brilliant and unique”\nJohn Bishop \n“Dark humour with faultless timing.”\nThe Stage \n“Packs a wry\, cheeky wit. There is\, most definitely\, something warmly alluring about him. His winning persona goes a long way.”\nwww.chortle.co.uk[/vc_column_text][dt_default_button bg_hover_color=”#ffffff” border_radius=”0px” border_width=”0px” button_padding=”8px 14px 8px 14px” default_btn_bg_color=”rgba(0\,0\,0\,0.77)” font_size=”13″ icon_size=”13″ link=”url:https%3A%2F%2Fwww.andyaskins.co.uk||target:%20_blank|” size=”custom” text_color=”#ffffff” text_hover_color=”#000000″]Visit website[/dt_default_button][/vc_column][vc_column width=”1/2″][vc_single_image image=”3999″ img_size=”full”][vc_column_text]Canadian SEAN COLLINS has 25 years’ experience in stand up comedy\, with initial success leading to ‘Best Male Stand Up’ nominations at the Canadian Comedy Awards\, a Just For Laughs Gala set at Montreal and his own hour long special on Canadian television. \nSince residing in the UK\, Sean quickly established himself as a strong performer. His appearance on Michael McIntyre’s Comedy Roadshow on BBC 1 proved a portentous gig for Sean\, affording him the opportunity to perform at The Real Variety Showcase for Jeremy Lee Associates\, the UK’s biggest specialist agency for after dinner speakers\, awards hosts and cabaret for corporate\, industry and public sector events. \n“A pleasure to indulge”\nThe Scotsman \n“Expert comedy done effortlessly … a veteran of comedy\, Collins is long overdue a major break”\nEdinburgh Evening News \n“He has perfected the art of entertaining digression without ever losing a thread … first class”\nChortle[/vc_column_text][dt_default_button bg_hover_color=”#ffffff” border_radius=”0px” border_width=”0px” button_padding=”8px 14px 8px 14px” default_btn_bg_color=”rgba(0\,0\,0\,0.77)” font_size=”13″ icon_size=”13″ link=”url:https%3A%2F%2Fseancollinscomedy.com||target:%20_blank|” size=”custom” text_color=”#ffffff” text_hover_color=”#000000″]Visit website[/dt_default_button][/vc_column][/vc_row]
URL:https://www.walnut-tree.co.uk/event/andy-askins-sean-collins/
LOCATION:Walnut Tree Inn\, 21 Station Road\, Blisworth\, Northants\, NN7 3DS\, United Kingdom
CATEGORIES:Featured Event,Live Comedy
ATTACH;FMTTYPE=image/png:https://www.walnut-tree.co.uk/wp-content/uploads/2021/03/xmasbordAsset-20.png
END:VEVENT
BEGIN:VEVENT
DTSTART;TZID=UTC:20191228T210000
DTEND;TZID=UTC:20191229T000000
DTSTAMP:20260423T102749
CREATED:20190328T122446Z
LAST-MODIFIED:20190328T122446Z
UID:10000581-1577566800-1577577600@www.walnut-tree.co.uk
SUMMARY:Mid Sensation
DESCRIPTION:An exciting 6 piece soul and Tamla Motown band that get everyone on their feet! Covering material by James Brown\, Sam & Dave\, Otis Redding\, Wilson Pickett\, Elvis\, Bob Marley and others.
URL:https://www.walnut-tree.co.uk/event/mid-sensation-2/
LOCATION:Walnut Tree Inn\, 21 Station Road\, Blisworth\, Northants\, NN7 3DS\, United Kingdom
CATEGORIES:Featured Event,Live Music
ATTACH;FMTTYPE=:
END:VEVENT
BEGIN:VEVENT
DTSTART;TZID=UTC:20191229T200000
DTEND;TZID=UTC:20191229T220000
DTSTAMP:20260423T102749
CREATED:20190212T122252Z
LAST-MODIFIED:20190212T122252Z
UID:10000635-1577649600-1577656800@www.walnut-tree.co.uk
SUMMARY:Quiz Night
DESCRIPTION:Last Sunday of the month.\nCome and join in our quiz on the last Sunday of every month @ 8pm with Chris and Debbie. \nEntry is £1 per person and teams of up to 4 people are welcome. There is a cash prize for the winner and a round of drinks for the winner of the Landlord’s Round.
URL:https://www.walnut-tree.co.uk/event/quiz-night-2019-12-29/
LOCATION:Walnut Tree Inn\, 21 Station Road\, Blisworth\, Northants\, NN7 3DS\, United Kingdom
CATEGORIES:Featured Event,Quiz Nights
ATTACH;FMTTYPE=:
END:VEVENT
BEGIN:VEVENT
DTSTART;TZID=UTC:20191231T210000
DTEND;TZID=UTC:20200101T030000
DTSTAMP:20260423T102749
CREATED:20190723T150418Z
LAST-MODIFIED:20190723T150418Z
UID:10000585-1577826000-1577847600@www.walnut-tree.co.uk
SUMMARY:New Year's Eve Party
DESCRIPTION:Celebrate New Year’s Eve with us this year! We offer a competitively priced event with a hot buffet with dessert or cheese and biscuits. Followed by dancing to the tunes of DJ Shacks into the wee hours. 9pm-3am. Vegetarian option available. \nBook your tickets now!!
URL:https://www.walnut-tree.co.uk/event/new-years-eve-party/
LOCATION:Walnut Tree Inn\, 21 Station Road\, Blisworth\, Northants\, NN7 3DS\, United Kingdom
CATEGORIES:Featured Event,Special Events
ATTACH;FMTTYPE=:
END:VEVENT
END:VCALENDAR