BEGIN:VCALENDAR
VERSION:2.0
PRODID:-//Walnut Tree Inn, Northampton - ECPv6.15.11//NONSGML v1.0//EN
CALSCALE:GREGORIAN
METHOD:PUBLISH
X-ORIGINAL-URL:https://www.walnut-tree.co.uk
X-WR-CALDESC:Events for Walnut Tree Inn, Northampton
REFRESH-INTERVAL;VALUE=DURATION:PT1H
X-Robots-Tag:noindex
X-PUBLISHED-TTL:PT1H
BEGIN:VTIMEZONE
TZID:UTC
BEGIN:STANDARD
TZOFFSETFROM:+0000
TZOFFSETTO:+0000
TZNAME:UTC
DTSTART:20190101T000000
END:STANDARD
END:VTIMEZONE
BEGIN:VEVENT
DTSTART;TZID=UTC:20200202T150000
DTEND;TZID=UTC:20200202T170000
DTSTAMP:20260421T113402
CREATED:20200116T171148Z
LAST-MODIFIED:20200116T171148Z
UID:10000732-1580655600-1580662800@www.walnut-tree.co.uk
SUMMARY:Six Nations Rugby - France v England
DESCRIPTION:3pm Kick off live on the Big Screen in the Bar. \nFood available from 12noon. \nWe will be showing all England games and other games on request.
URL:https://www.walnut-tree.co.uk/event/six-nations-rugby-france-v-england/
LOCATION:Walnut Tree Inn\, 21 Station Road\, Blisworth\, Northants\, NN7 3DS\, United Kingdom
CATEGORIES:Featured Event,Special Events
ATTACH;FMTTYPE=:
END:VEVENT
BEGIN:VEVENT
DTSTART;TZID=UTC:20200216T120000
DTEND;TZID=UTC:20200216T143000
DTSTAMP:20260421T113402
CREATED:20191227T160614Z
LAST-MODIFIED:20191227T160614Z
UID:10000610-1581854400-1581863400@www.walnut-tree.co.uk
SUMMARY:The Amazing Djangology
DESCRIPTION:of John Wheatcroft (guitar) and Martin Winning (clarinet/sax) with Bill Coleman (bass) and Will Ballard (guitar). \nTickets £10 on the door.\nFor reservations and enquiries call Tad Newton on 01604 858549.
URL:https://www.walnut-tree.co.uk/event/the-amazing-djangology/
LOCATION:Walnut Tree Inn\, 21 Station Road\, Blisworth\, Northants\, NN7 3DS\, United Kingdom
CATEGORIES:Featured Event,Live Jazz
ATTACH;FMTTYPE=:
END:VEVENT
BEGIN:VEVENT
DTSTART;TZID=UTC:20200222T120000
DTEND;TZID=UTC:20200222T160000
DTSTAMP:20260421T113402
CREATED:20200116T152638Z
LAST-MODIFIED:20200116T152638Z
UID:10000614-1582372800-1582387200@www.walnut-tree.co.uk
SUMMARY:Wedding Fair
DESCRIPTION:Recently engaged and looking for a venue? \nWell\, why not pop in and view our facilities\, meet our events team and some of our preferred suppliers over tasty canapés and a glass of prosecco. \nFor more information on Walnut Tree Inn Ceremonies and Receptions click here.
URL:https://www.walnut-tree.co.uk/event/wedding-fair/
LOCATION:Walnut Tree Inn\, 21 Station Road\, Blisworth\, Northants\, NN7 3DS\, United Kingdom
CATEGORIES:Featured Event,Special Events
ATTACH;FMTTYPE=:
END:VEVENT
BEGIN:VEVENT
DTSTART;TZID=UTC:20200222T210000
DTEND;TZID=UTC:20200223T000000
DTSTAMP:20260421T113402
CREATED:20190925T163147Z
LAST-MODIFIED:20190925T163147Z
UID:10000595-1582405200-1582416000@www.walnut-tree.co.uk
SUMMARY:Nothing Scientific
DESCRIPTION:Nothing Scientific are a Northampton based covers band\, playing a mixture of indie\, Britpop\, rock and post-punk classics\, guaranteed to give you a great night out!
URL:https://www.walnut-tree.co.uk/event/nothing-scientific/
LOCATION:Walnut Tree Inn\, 21 Station Road\, Blisworth\, Northants\, NN7 3DS\, United Kingdom
CATEGORIES:Featured Event,Live Music
ATTACH;FMTTYPE=:
END:VEVENT
BEGIN:VEVENT
DTSTART;TZID=UTC:20200227T200000
DTEND;TZID=UTC:20200227T233000
DTSTAMP:20260421T113402
CREATED:20191204T170334Z
LAST-MODIFIED:20191204T170334Z
UID:10000731-1582833600-1582846200@www.walnut-tree.co.uk
SUMMARY:Ian Stone + Steve Royle
DESCRIPTION:[vc_row][vc_column width=”1/2″][vc_single_image source=”featured_image” img_size=”full”][vc_column_text]IAN STONE is ranked amongst the top ten stand-ups in Britain by The Independent\, Ian Stone is one of the most talented topical acts and comperes in the country. Edgy and provocative\, with an easy-going manner and self-depreciating style\, Ian is at great ease bantering with an audience. He’s a member of the Comedy Store’s critically acclaimed ‘Cutting Edge’ team. Ian also received a nomination in 2012 for the BEST SHOW at the Leicester Comedy Festival Awards. \nIan’s many TV appearances include two shows of “Mock The Week” (BBC 2)\, “The World Stands Up” (Paramount Comedy 2005) “The Comedy Store” (Ch5 – 3 appearances and 1 for The Comedy Channel)\, “Never Mind The Buzzcocks” (BBC 2)\, T”he Stand-Up Show” (BBC 1)\, “Saturday Live” (ITV)\, “Live at Jongleurs” (ITV)\, two series of “The Katy Brand Show” for ITV2 & “The 11 O’clock Show” (CH4). \n“Ian Stone is intelligent and likable and has the audience in the palm of hand from the second he steps on stage. This is the type of comedy that leaves you giddy and on the highest high.”\nBroadway Baby \n“…like a cross between Tony Hancock and Frankie Howerd. Stone is probably better than we deserve. Ultimately\, it is the sheer quantity of funny material that really impresses”\nThe List[/vc_column_text][dt_default_button link=”url:http%3A%2F%2Fwww.ianstonecomedian.co.uk||target:%20_blank|” size=”custom” font_size=”13px” icon_size=”13px” button_padding=”8px 14px 8px 14px” border_radius=”0px” text_color=”#ffffff” default_btn_bg_color=”rgba(0\,0\,0\,0.77)” text_hover_color=”#000000″ bg_hover_color=”#ffffff”]Visit website[/dt_default_button][/vc_column][vc_column width=”1/2″][vc_single_image image=”8422″ img_size=”full”][vc_column_text] \nSTEVE ROYLE is a comedian\, radio presenter\, actor\, writer\, husband and Dad. For over 12 years Steve could be found in the guise of “Mad Edgar” the court jester at Camelot theme park where he presented over 2000 “Crazy Juggling Shows”. He has also supported both Peter Kay and Dave Spikey on tour and was voted “Entertainer of the Year” at the recent Red Rose Awards. \nHis many TV appearances have included “Phoenix Nights”\, “Max & Paddy”\, “Behind The Scene”\, “That’s Entertainment”\, “Stand-up Britain”\, “Give Your Mate A Break”\, “The Afternoon Show”\, “Talk Of The North”\, “The Things You Do For Love”\, and despite being one of the North West’s healthiest males\, a medical insurance commercial for “Medicash”. \nSteve is also co-founder of the “Slaughterhouse-Live” (“Laughter” with an “S”) character comedy nights. The group regularly perform at “The Comedy Store” and they were nominated in the “best touring show” category at the Manchester Comedy Awards\, losing out to Peter Kay! \n[/vc_column_text][dt_default_button link=”url:http%3A%2F%2Fwww.steveroyle.com||target:%20_blank|” size=”custom” font_size=”13px” icon_size=”13px” button_padding=”8px 14px 8px 14px” border_radius=”0px” text_color=”#ffffff” default_btn_bg_color=”rgba(0\,0\,0\,0.77)” text_hover_color=”#000000″ bg_hover_color=”#ffffff”]Visit website[/dt_default_button][/vc_column][/vc_row]
URL:https://www.walnut-tree.co.uk/event/ian-stone-steve-royle/
LOCATION:Walnut Tree Inn\, 21 Station Road\, Blisworth\, Northants\, NN7 3DS\, United Kingdom
CATEGORIES:Featured Event,Live Comedy
ATTACH;FMTTYPE=:
END:VEVENT
BEGIN:VEVENT
DTSTART;TZID=UTC:20200229T210000
DTEND;TZID=UTC:20200229T235000
DTSTAMP:20260421T113402
CREATED:20190903T121911Z
LAST-MODIFIED:20190903T121911Z
UID:10000709-1583010000-1583020200@www.walnut-tree.co.uk
SUMMARY:Kickstart
DESCRIPTION:Kickstart are a Northampton based five-piece band playing classic 60’s/Mod/Ska/Punk and Indie music including tracks from the likes of The Who\, The Stones\,The Kinks\,The Beatles\, The Jam\, The Clash\, The Specials\, Madness\, Selector\, Kaiser Chiefs\, The Killers and a whole lot more.
URL:https://www.walnut-tree.co.uk/event/kickstart/
LOCATION:Walnut Tree Inn\, 21 Station Road\, Blisworth\, Northants\, NN7 3DS\, United Kingdom
CATEGORIES:Featured Event,Live Music
ATTACH;FMTTYPE=:
END:VEVENT
END:VCALENDAR