BEGIN:VCALENDAR
VERSION:2.0
PRODID:-//Walnut Tree Inn, Northampton - ECPv6.15.11//NONSGML v1.0//EN
CALSCALE:GREGORIAN
METHOD:PUBLISH
X-WR-CALNAME:Walnut Tree Inn, Northampton
X-ORIGINAL-URL:https://www.walnut-tree.co.uk
X-WR-CALDESC:Events for Walnut Tree Inn, Northampton
REFRESH-INTERVAL;VALUE=DURATION:PT1H
X-Robots-Tag:noindex
X-PUBLISHED-TTL:PT1H
BEGIN:VTIMEZONE
TZID:UTC
BEGIN:STANDARD
TZOFFSETFROM:+0000
TZOFFSETTO:+0000
TZNAME:UTC
DTSTART:20180101T000000
END:STANDARD
END:VTIMEZONE
BEGIN:VEVENT
DTSTART;TZID=UTC:20190817T210000
DTEND;TZID=UTC:20190818T000000
DTSTAMP:20260423T182138
CREATED:20190326T184249Z
LAST-MODIFIED:20190326T184249Z
UID:10000675-1566075600-1566086400@www.walnut-tree.co.uk
SUMMARY:Little Pig
DESCRIPTION:A five-piece prog rock band based in Milton Keynes who perform the music of 70’s bands including Pink Floyd\, Genesis\, Led Zeppelin and Barclay James Harvest.
URL:https://www.walnut-tree.co.uk/event/little-pig/
LOCATION:Walnut Tree Inn\, 21 Station Road\, Blisworth\, Northants\, NN7 3DS\, United Kingdom
CATEGORIES:Featured Event,Live Music
ATTACH;FMTTYPE=:
END:VEVENT
END:VCALENDAR