BEGIN:VCALENDAR
VERSION:2.0
PRODID:-//Walnut Tree Inn, Northampton - ECPv6.15.11//NONSGML v1.0//EN
CALSCALE:GREGORIAN
METHOD:PUBLISH
X-WR-CALNAME:Walnut Tree Inn, Northampton
X-ORIGINAL-URL:https://www.walnut-tree.co.uk
X-WR-CALDESC:Events for Walnut Tree Inn, Northampton
REFRESH-INTERVAL;VALUE=DURATION:PT1H
X-Robots-Tag:noindex
X-PUBLISHED-TTL:PT1H
BEGIN:VTIMEZONE
TZID:UTC
BEGIN:STANDARD
TZOFFSETFROM:+0000
TZOFFSETTO:+0000
TZNAME:UTC
DTSTART:20180101T000000
END:STANDARD
END:VTIMEZONE
BEGIN:VEVENT
DTSTART;TZID=UTC:20191012T210000
DTEND;TZID=UTC:20191013T000000
DTSTAMP:20260423T151709
CREATED:20190212T161837Z
LAST-MODIFIED:20190212T161837Z
UID:10000645-1570914000-1570924800@www.walnut-tree.co.uk
SUMMARY:Brighton Riot
DESCRIPTION:This Northampton based covers band perform all popular Mod and Rock music from the likes of The Jam & The Who all the way to Biffy Clyro & Oasis!
URL:https://www.walnut-tree.co.uk/event/brighton-riot/
LOCATION:Walnut Tree Inn\, 21 Station Road\, Blisworth\, Northants\, NN7 3DS\, United Kingdom
CATEGORIES:Featured Event,Live Music
ATTACH;FMTTYPE=:
END:VEVENT
END:VCALENDAR