BEGIN:VCALENDAR
VERSION:2.0
PRODID:-//Walnut Tree Inn, Northampton - ECPv6.15.11//NONSGML v1.0//EN
CALSCALE:GREGORIAN
METHOD:PUBLISH
X-WR-CALNAME:Walnut Tree Inn, Northampton
X-ORIGINAL-URL:https://www.walnut-tree.co.uk
X-WR-CALDESC:Events for Walnut Tree Inn, Northampton
REFRESH-INTERVAL;VALUE=DURATION:PT1H
X-Robots-Tag:noindex
X-PUBLISHED-TTL:PT1H
BEGIN:VTIMEZONE
TZID:UTC
BEGIN:STANDARD
TZOFFSETFROM:+0000
TZOFFSETTO:+0000
TZNAME:UTC
DTSTART:20180101T000000
END:STANDARD
END:VTIMEZONE
BEGIN:VEVENT
DTSTART;TZID=UTC:20191025T200000
DTEND;TZID=UTC:20191025T230000
DTSTAMP:20260423T151709
CREATED:20190723T152014Z
LAST-MODIFIED:20190723T152014Z
UID:10000586-1572033600-1572044400@www.walnut-tree.co.uk
SUMMARY:Simply Floyd - a tribute to Pink Floyd
DESCRIPTION:Local Pink Floyd tribute band – Simply Floyd playing the best of Pink Floyd with superb musicianship. Tracks from classic albums including Dark Side of The Moon\, Wish You Were Here\, The Wall and others.
URL:https://www.walnut-tree.co.uk/event/simply-floyd-a-tribute-to-pink-floyd/
LOCATION:Walnut Tree Inn\, 21 Station Road\, Blisworth\, Northants\, NN7 3DS\, United Kingdom
CATEGORIES:Featured Event,Live Music
ATTACH;FMTTYPE=:
END:VEVENT
END:VCALENDAR