BEGIN:VCALENDAR
VERSION:2.0
PRODID:-//Walnut Tree Inn, Northampton - ECPv6.15.11//NONSGML v1.0//EN
CALSCALE:GREGORIAN
METHOD:PUBLISH
X-ORIGINAL-URL:https://www.walnut-tree.co.uk
X-WR-CALDESC:Events for Walnut Tree Inn, Northampton
REFRESH-INTERVAL;VALUE=DURATION:PT1H
X-Robots-Tag:noindex
X-PUBLISHED-TTL:PT1H
BEGIN:VTIMEZONE
TZID:UTC
BEGIN:STANDARD
TZOFFSETFROM:+0000
TZOFFSETTO:+0000
TZNAME:UTC
DTSTART:20190101T000000
END:STANDARD
END:VTIMEZONE
BEGIN:VEVENT
DTSTART;TZID=UTC:20200104T210000
DTEND;TZID=UTC:20200104T235000
DTSTAMP:20260421T144929
CREATED:20191126T131253Z
LAST-MODIFIED:20191126T131253Z
UID:10000604-1578171600-1578181800@www.walnut-tree.co.uk
SUMMARY:The Rides
DESCRIPTION:Milton Keynes based four-piece pop & rock covers function band covering songs from the 60’s to current chart hits.  Their repertoire of artists includes Bruce Springsteen\, Bryan Adams\, Van Morrison\, Doobie Brothers\, Stones\, The Monkees\, The Doors\, Fleetwood Mac\, Cockney Rebel\, Wild Cherry\, Stevie Wonder\, U2\, Free\, Prince\, Elton John\, Oasis\, Kings of Leon\, Stereophonics\, Robbie Williams\, Gnarls Barcley\, Toploader\, Erasure\,  Cee Lo Green\, Walk The Moon\, The Killers\, The Fratellis\, The Undertones\, James\, Ricky Martin\, The Proclaimers and Rag ’n’ Bone Man.
URL:https://www.walnut-tree.co.uk/event/the-rides/
LOCATION:Walnut Tree Inn\, 21 Station Road\, Blisworth\, Northants\, NN7 3DS\, United Kingdom
CATEGORIES:Featured Event,Live Music
ATTACH;FMTTYPE=:
END:VEVENT
BEGIN:VEVENT
DTSTART;TZID=UTC:20200104T210000
DTEND;TZID=UTC:20200104T235000
DTSTAMP:20260421T144929
CREATED:20191231T181906Z
LAST-MODIFIED:20191231T181906Z
UID:10000611-1578171600-1578181800@www.walnut-tree.co.uk
SUMMARY:Soul'd
DESCRIPTION:Five piece band covering funk\, jazz and soul party hits. Based in Northants and fronted by professional singer/songwriter Leanne Golding. Their repertoire includes songs by Womack & Womack\, Sister Sledge\, Candi Staton\, Patti LaBelle\, Chaka Khan\, Stevie Wonder\, Jackie Wilson\, Rose Royce\, The Trammps\, Al Green\, Doobie Brothers\, James Brown\, Wild Cherry\, Creedence Clearwater Revival\, Earth Wind & Fire\, Chic\, Jamiroquai\, Luther Vandross\, Bill Withers\, Michael Jackson\, Knarls Barclay\, Moloko\, Amy Winehouse\, Daft Punk and Pharrell Williams.
URL:https://www.walnut-tree.co.uk/event/sould-2/
LOCATION:Walnut Tree Inn\, 21 Station Road\, Blisworth\, Northants\, NN7 3DS\, United Kingdom
CATEGORIES:Featured Event,Live Music
ATTACH;FMTTYPE=:
END:VEVENT
END:VCALENDAR