BEGIN:VCALENDAR
VERSION:2.0
PRODID:-//Walnut Tree Inn, Northampton - ECPv6.15.11//NONSGML v1.0//EN
CALSCALE:GREGORIAN
METHOD:PUBLISH
X-WR-CALNAME:Walnut Tree Inn, Northampton
X-ORIGINAL-URL:https://www.walnut-tree.co.uk
X-WR-CALDESC:Events for Walnut Tree Inn, Northampton
REFRESH-INTERVAL;VALUE=DURATION:PT1H
X-Robots-Tag:noindex
X-PUBLISHED-TTL:PT1H
BEGIN:VTIMEZONE
TZID:UTC
BEGIN:STANDARD
TZOFFSETFROM:+0000
TZOFFSETTO:+0000
TZNAME:UTC
DTSTART:20190101T000000
END:STANDARD
END:VTIMEZONE
BEGIN:VEVENT
DTSTART;TZID=UTC:20200111T213000
DTEND;TZID=UTC:20200112T000000
DTSTAMP:20260423T103737
CREATED:20191119T183237Z
LAST-MODIFIED:20191119T183237Z
UID:10000602-1578778200-1578787200@www.walnut-tree.co.uk
SUMMARY:The LPs
DESCRIPTION:The LP’s are a 4 piece powerhouse band based in Beds/MK. Re-vamped\, Re-energized and ready to get you dancing with their blend of classic 80s rock & synthpop nostalgia\, with tracks from Tears for Fears\, Duran Duran\, Santana\, Madness\, Paul Simon and many others.
URL:https://www.walnut-tree.co.uk/event/the-lps/
LOCATION:Walnut Tree Inn\, 21 Station Road\, Blisworth\, Northants\, NN7 3DS\, United Kingdom
CATEGORIES:Featured Event,Live Music
ATTACH;FMTTYPE=:
END:VEVENT
END:VCALENDAR