BEGIN:VCALENDAR
VERSION:2.0
PRODID:-//Walnut Tree Inn, Northampton - ECPv6.15.11//NONSGML v1.0//EN
CALSCALE:GREGORIAN
METHOD:PUBLISH
X-ORIGINAL-URL:https://www.walnut-tree.co.uk
X-WR-CALDESC:Events for Walnut Tree Inn, Northampton
REFRESH-INTERVAL;VALUE=DURATION:PT1H
X-Robots-Tag:noindex
X-PUBLISHED-TTL:PT1H
BEGIN:VTIMEZONE
TZID:UTC
BEGIN:STANDARD
TZOFFSETFROM:+0000
TZOFFSETTO:+0000
TZNAME:UTC
DTSTART:20190101T000000
END:STANDARD
END:VTIMEZONE
BEGIN:VEVENT
DTSTART;TZID=UTC:20200124T191500
DTEND;TZID=UTC:20200124T220000
DTSTAMP:20260421T150008
CREATED:20200102T180852Z
LAST-MODIFIED:20200102T180852Z
UID:10000612-1579893300-1579903200@www.walnut-tree.co.uk
SUMMARY:Burn's Night Supper
DESCRIPTION:Our chef’s have produced an authentic Scottish Burn’s Supper menu for your delectation. For only £23 per person you can enjoy a delicious three-course meal with an optional whisky flight of four exceptional single malts for just £14. \n7.15pm for 7.45pm\, to book please call 01604 859551 or book online using the button at the top of the next column. \n  \nMENU \nTo Start \nCullen Skink\na traditional soup made from Smoked Haddock\, Potato and Onion \n\nMain Course \nHaggis with Neeps and Tatties\nserved with a Whisky sauce \n\nTo Finish \nCranachan\na Scottish trifle made with mixed berries\, whipped cream\, toasted oats\, honey and whisky
URL:https://www.walnut-tree.co.uk/event/burns-night-supper/
LOCATION:Walnut Tree Inn\, 21 Station Road\, Blisworth\, Northants\, NN7 3DS\, United Kingdom
CATEGORIES:Featured Event,Occasions
ATTACH;FMTTYPE=:
END:VEVENT
END:VCALENDAR