BEGIN:VCALENDAR
VERSION:2.0
PRODID:-//Walnut Tree Inn, Northampton - ECPv6.15.11//NONSGML v1.0//EN
CALSCALE:GREGORIAN
METHOD:PUBLISH
X-WR-CALNAME:Walnut Tree Inn, Northampton
X-ORIGINAL-URL:https://www.walnut-tree.co.uk
X-WR-CALDESC:Events for Walnut Tree Inn, Northampton
REFRESH-INTERVAL;VALUE=DURATION:PT1H
X-Robots-Tag:noindex
X-PUBLISHED-TTL:PT1H
BEGIN:VTIMEZONE
TZID:UTC
BEGIN:STANDARD
TZOFFSETFROM:+0000
TZOFFSETTO:+0000
TZNAME:UTC
DTSTART:20170101T000000
END:STANDARD
END:VTIMEZONE
BEGIN:VEVENT
DTSTART;TZID=UTC:20181228T200000
DTEND;TZID=UTC:20181228T223000
DTSTAMP:20260423T102520
CREATED:20181128T172041Z
LAST-MODIFIED:20181128T172041Z
UID:10000625-1546027200-1546036200@www.walnut-tree.co.uk
SUMMARY:Troy Hawke + Andrew Lawrence
DESCRIPTION:[vc_row][vc_column width=”1/2″][vc_single_image source=”featured_image” img_size=”full”][vc_column_text]Milo McCabe is a character comedian with over ten years experience on the circuit. He has twice been nominated for the Amused Moose Best Edinburgh show award and was listed as GQ’s Top Ten comedy shows of the festival. TV credits include ITV’S Benidorm\, BBC3’s Live at the Electric and various hidden camera and talking heads projects on Channel 4 and 5. As himself\, he is shortly to appear in US documentary ‘Everyone has an Andy Dick story’. As TROY HAWKE he is currently touring comedy clubs and festivals in preparation for his 2018 show. \nTroy Hawke is an erudite homeschooled 1930’s throwback…the Errol Flynn of the high street. Educated\, sophisticated\, but utterly clueless. He tackles modern issues head on in his uniquely untimely manner. \n “undeniably funny”\nChortle \n“mad comic genius”\nThe Scotsman \n“Near perfect character comedy”\nThe New Current[/vc_column_text][dt_default_button bg_hover_color=”#ffffff” border_radius=”0px” border_width=”0px” button_padding=”8px 14px 8px 14px” default_btn_bg_color=”rgba(0\,0\,0\,0.77)” font_size=”13″ icon_size=”13″ link=”url:http%3A%2F%2Fwww.milomccabe.co.uk%2Fabout_me_troy%2F||target:%20_blank|” size=”custom” text_color=”#ffffff” text_hover_color=”#000000″]Visit website[/dt_default_button][/vc_column][vc_column width=”1/2″][vc_single_image image=”694″ img_size=”full”][vc_column_text]ANDREW LAWRENCE‘S university stage debut led on to the Edinburgh Fringe\, where he was runner up in the 2003 So You Think You’re Funny competition. Subsequently\, he won the Amused Moose Starsearch\, York Comedy Festival New Act of the Year Competition and the BBC’s New Act of the Year Competition in 2004. \nHe presented his first hour-long comedy show at the 2006 Edinburgh Festival Fringe entitled How to Butcher your Loved Ones. It was nominated for the if.comeddie award (as it was known for that year only) for Best Newcomer. His 2007 Fringe show\, Social Leprosy For Beginners & Improvers\, was nominated for the main if.comedy award. He has returned to the Fringe every year up to 2015. \nAs well as touring shows in the UK\, Lawrence has performed abroad at the Just For Laughs Montreal Festival Showcase and the Melbourne International Comedy Festival. \nLawrence has featured in numerous radio and TV shows\, mostly as a stand-up performer. He has also appeared on television as a comic actor\, playing the builder Marco in the BBC TV sitcom Ideal. He has written and performed four series for BBC Radio 4\, most recently the 2015 sitcom There Is No Escape. \nBoasting a fiery crown of red hair and a deep\, demonic voice\, Lawrence’s fiendish persona is in complete allegiance with his material; it will shock you both in terms of content\, and in terms of how much you will laugh. With his flawless timing and delivery he can induce tears of laughter from audience members almost against their will. \n“Evil elegance”\nTime Out \n“It’s a joy to be in his contemptuous company”\nThe Times[/vc_column_text][dt_default_button bg_hover_color=”#ffffff” border_radius=”0px” border_width=”0px” button_padding=”8px 14px 8px 14px” default_btn_bg_color=”rgba(0\,0\,0\,0.77)” font_size=”13″ icon_size=”13″ link=”url:http%3A%2F%2Fwww.andrewlawrencecomedy.co.uk%2F||target:%20_blank|” size=”custom” text_color=”#ffffff” text_hover_color=”#000000″]Visit website[/dt_default_button][/vc_column][/vc_row]
URL:https://www.walnut-tree.co.uk/event/troy-hawke-andrew-lawrence/
LOCATION:Walnut Tree Inn\, 21 Station Road\, Blisworth\, Northants\, NN7 3DS\, United Kingdom
CATEGORIES:Live Comedy
ATTACH;FMTTYPE=:
END:VEVENT
BEGIN:VEVENT
DTSTART;TZID=UTC:20181228T200000
DTEND;TZID=UTC:20181228T223000
DTSTAMP:20260423T102520
CREATED:20181201T145701Z
LAST-MODIFIED:20181201T145701Z
UID:10000628-1546027200-1546036200@www.walnut-tree.co.uk
SUMMARY:Troy Hawke + Andrew Lawrence
DESCRIPTION:[vc_row][vc_column width=”1/2″][vc_single_image source=”featured_image” img_size=”full”][vc_column_text]Milo McCabe is a character comedian with over ten years experience on the circuit. He has twice been nominated for the Amused Moose Best Edinburgh show award and was listed as GQ’s Top Ten comedy shows of the festival. TV credits include ITV’S Benidorm\, BBC3’s Live at the Electric and various hidden camera and talking heads projects on Channel 4 and 5. As himself\, he is shortly to appear in US documentary ‘Everyone has an Andy Dick story’. As TROY HAWKE he is currently touring comedy clubs and festivals in preparation for his 2018 show. \nTroy Hawke is an erudite homeschooled 1930’s throwback…the Errol Flynn of the high street. Educated\, sophisticated\, but utterly clueless. He tackles modern issues head on in his uniquely untimely manner. \n “undeniably funny”\nChortle \n“mad comic genius”\nThe Scotsman \n“Near perfect character comedy”\nThe New Current[/vc_column_text][dt_default_button bg_hover_color=”#ffffff” border_radius=”0px” border_width=”0px” button_padding=”8px 14px 8px 14px” default_btn_bg_color=”rgba(0\,0\,0\,0.77)” font_size=”13″ icon_size=”13″ link=”url:http%3A%2F%2Fwww.milomccabe.co.uk%2Fabout_me_troy%2F||target:%20_blank|” size=”custom” text_color=”#ffffff” text_hover_color=”#000000″]Visit website[/dt_default_button][/vc_column][vc_column width=”1/2″][vc_single_image image=”694″ img_size=”full”][vc_column_text]ANDREW LAWRENCE‘S university stage debut led on to the Edinburgh Fringe\, where he was runner up in the 2003 So You Think You’re Funny competition. Subsequently\, he won the Amused Moose Starsearch\, York Comedy Festival New Act of the Year Competition and the BBC’s New Act of the Year Competition in 2004. \nHe presented his first hour-long comedy show at the 2006 Edinburgh Festival Fringe entitled How to Butcher your Loved Ones. It was nominated for the if.comeddie award (as it was known for that year only) for Best Newcomer. His 2007 Fringe show\, Social Leprosy For Beginners & Improvers\, was nominated for the main if.comedy award. He has returned to the Fringe every year up to 2015. \nAs well as touring shows in the UK\, Lawrence has performed abroad at the Just For Laughs Montreal Festival Showcase and the Melbourne International Comedy Festival. \nLawrence has featured in numerous radio and TV shows\, mostly as a stand-up performer. He has also appeared on television as a comic actor\, playing the builder Marco in the BBC TV sitcom Ideal. He has written and performed four series for BBC Radio 4\, most recently the 2015 sitcom There Is No Escape. \nBoasting a fiery crown of red hair and a deep\, demonic voice\, Lawrence’s fiendish persona is in complete allegiance with his material; it will shock you both in terms of content\, and in terms of how much you will laugh. With his flawless timing and delivery he can induce tears of laughter from audience members almost against their will. \n“Evil elegance”\nTime Out \n“It’s a joy to be in his contemptuous company”\nThe Times[/vc_column_text][dt_default_button bg_hover_color=”#ffffff” border_radius=”0px” border_width=”0px” button_padding=”8px 14px 8px 14px” default_btn_bg_color=”rgba(0\,0\,0\,0.77)” font_size=”13″ icon_size=”13″ link=”url:http%3A%2F%2Fwww.andrewlawrencecomedy.co.uk%2F||target:%20_blank|” size=”custom” text_color=”#ffffff” text_hover_color=”#000000″]Visit website[/dt_default_button][/vc_column][/vc_row]
URL:https://www.walnut-tree.co.uk/event/troy-hawke-andrew-lawrence-2/
LOCATION:Walnut Tree Inn\, 21 Station Road\, Blisworth\, Northants\, NN7 3DS\, United Kingdom
CATEGORIES:Live Comedy
ATTACH;FMTTYPE=:
END:VEVENT
END:VCALENDAR