BEGIN:VCALENDAR
VERSION:2.0
PRODID:-//Walnut Tree Inn, Northampton - ECPv6.15.11//NONSGML v1.0//EN
CALSCALE:GREGORIAN
METHOD:PUBLISH
X-WR-CALNAME:Walnut Tree Inn, Northampton
X-ORIGINAL-URL:https://www.walnut-tree.co.uk
X-WR-CALDESC:Events for Walnut Tree Inn, Northampton
REFRESH-INTERVAL;VALUE=DURATION:PT1H
X-Robots-Tag:noindex
X-PUBLISHED-TTL:PT1H
BEGIN:VTIMEZONE
TZID:UTC
BEGIN:STANDARD
TZOFFSETFROM:+0000
TZOFFSETTO:+0000
TZNAME:UTC
DTSTART:20180101T000000
END:STANDARD
END:VTIMEZONE
BEGIN:VEVENT
DTSTART;TZID=UTC:20190131T200000
DTEND;TZID=UTC:20190131T230000
DTSTAMP:20260423T085445
CREATED:20181129T155418Z
LAST-MODIFIED:20181129T155418Z
UID:10000626-1548964800-1548975600@www.walnut-tree.co.uk
SUMMARY:Mandy Muden + Justin Moorhouse
DESCRIPTION:[vc_row][vc_column width=”1/2″][vc_single_image source=”featured_image” img_size=”full”][vc_column_text]MANDY MUDEN is a skilled Magician (Close-up and Cabaret)\, Comedienne\, presenter and actress. Semi-finalist in 2018 Britain’s got Talent\, she is one of the World’s finest female Close-up and Cabaret Magicians. Her skilled sleight of hand and sharp humour is sure to make any event one to be remembered. \nMandy is one on her own. The only woman ever to combine Comedy and Magic on the UK Comedy and Corporate circuits. She has a striking personality with a razor sharp wit and so creates a fantastic rapport\, offering a great line in audience participation. \nHer TV credits include: Celebrity Ready Steady Cook\, Come Dine with Me and Faking It and regularly appears in stage productions. \n“Mandy is a very clever funny magician”\nDaily Mail \n“The lovely Mandy updates Magic with a camp bitch slant she’ll win you over in a flash”\nAttitude Magazine \n“Imagine a sexy Tommy Cooper minus the Fez”\nEvening Standard[/vc_column_text][dt_default_button bg_hover_color=”#ffffff” border_radius=”0px” border_width=”0px” button_padding=”8px 14px 8px 14px” default_btn_bg_color=”rgba(0\,0\,0\,0.77)” font_size=”13″ icon_size=”13″ link=”url:http%3A%2F%2Fwww.mandymuden.com%2F||target:%20_blank|” size=”custom” text_color=”#ffffff” text_hover_color=”#000000″]Visit website[/dt_default_button][/vc_column][vc_column width=”1/2″][vc_single_image image=”709″ img_size=”full”][vc_column_text]JUSTIN MOORHOUSE has appeared onÂ Live At The Apollo\,Â Peter Kay’s Phoenix Nights\,Â 8 Out of 10 Cats\,Â Alan Davies: As Yet UntitledÂ andÂ Coronation Street. Series regular onÂ The Premier League ShowÂ and 5Live’sÂ Fighting Talk. \nIt’s been a busy 18 months for Justin\, he brought back tiger-faced Young Kenny for the record-breaking run ofÂ Phoenix Nights Live at The Manchester Arena\, which raised over £5 million for comic relief; told fantastic tales about Australia and Manchester onÂ Live At The Apollo; and appeared as Dean the rival cricketing landlord onÂ Coronation Street.Â  \nHis comedy has taken him on tour to Australia\, China\, Japan and the Middle East. He has performed stand up comedy on television a number of times including\, several series ofÂ The Comedy StoreÂ (Comedy Central)\,Â One Night StandÂ (Dave) and was Michael McIntyre’s guest on his Blackpool leg ofComedy RoadshowÂ (BBC1).[/vc_column_text][dt_default_button bg_hover_color=”#ffffff” border_radius=”0px” border_width=”0px” button_padding=”8px 14px 8px 14px” default_btn_bg_color=”rgba(0\,0\,0\,0.77)” font_size=”13″ icon_size=”13″ link=”url:https%3A%2F%2Fwww.justinmoorhouse.com%2F||target:%20_blank|” size=”custom” text_color=”#ffffff” text_hover_color=”#000000″]Visit website[/dt_default_button][/vc_column][/vc_row]
URL:https://www.walnut-tree.co.uk/event/mandy-muden-justin-moorhouse/
CATEGORIES:Live Comedy
ATTACH;FMTTYPE=:
END:VEVENT
END:VCALENDAR