BEGIN:VCALENDAR
VERSION:2.0
PRODID:-//Walnut Tree Inn, Northampton - ECPv6.15.11//NONSGML v1.0//EN
CALSCALE:GREGORIAN
METHOD:PUBLISH
X-WR-CALNAME:Walnut Tree Inn, Northampton
X-ORIGINAL-URL:https://www.walnut-tree.co.uk
X-WR-CALDESC:Events for Walnut Tree Inn, Northampton
REFRESH-INTERVAL;VALUE=DURATION:PT1H
X-Robots-Tag:noindex
X-PUBLISHED-TTL:PT1H
BEGIN:VTIMEZONE
TZID:UTC
BEGIN:STANDARD
TZOFFSETFROM:+0000
TZOFFSETTO:+0000
TZNAME:UTC
DTSTART:20180101T000000
END:STANDARD
END:VTIMEZONE
BEGIN:VEVENT
DTSTART;TZID=UTC:20190425T200000
DTEND;TZID=UTC:20190425T233000
DTSTAMP:20260423T032929
CREATED:20190216T163418Z
LAST-MODIFIED:20190216T163418Z
UID:10000647-1556222400-1556235000@www.walnut-tree.co.uk
SUMMARY:Paddy Lennox + Rob Deering
DESCRIPTION:[vc_row][vc_column width=”1/2″][vc_single_image source=”featured_image” img_size=”full”][vc_column_text]PADDY LENNOX is an Irish comedian and actor who first burst on to the stage as a Stand-Up in 2001 only to be interrupted with a couple of comedies at the Shakespeare Globe Theatre and filming in far off lands\, before returning to his new found passion. An engaging and instantly likeable comic\, Paddy combines topical material with observational routines. \nHe has worked at The Shakespeare’s Globe Theatre with Mark Rylance\, slipped off this mortal coil in Holby City and been pulled faces in many television commercials across the EU. \nPaddy earns a crust on the UK Comedy Circuit and plays all the great clubs: The Comedy Store\, Jongleurs\, The Glee Club\, The Stand\, Barnstormers and many other clubs. \n“A scream…”\nThe Telegraph \n “Northern Irishman Paddy Lennox has some extremely funny material. I’m sure this guy has a great future.”\none4review.com[/vc_column_text][dt_default_button bg_hover_color=”#ffffff” border_radius=”0px” border_width=”0px” button_padding=”8px 14px 8px 14px” default_btn_bg_color=”rgba(0\,0\,0\,0.77)” font_size=”13″ icon_size=”13″ link=”url:https%3A%2F%2Flaughingbishops.co.uk||target:%20_blank|” size=”custom” text_color=”#ffffff” text_hover_color=”#000000″]Visit website[/dt_default_button][/vc_column][vc_column width=”1/2″][vc_single_image image=”3151″ img_size=”full”][vc_column_text]ROB DEERING performs stand-up comedy with music\, using a guitar\, a loop pedal and his voice to create impressive rock and pop soundscapes – and do jokes\, of course. \nAlong with being one of the most in-demand headliners on the UK circuit\, he’s toured nationally and performed solo shows at the Edinburgh Fringe many times since starting out in comedy in the year 2000. His late-night\, live-music comedy pop quiz Beat This is a festival institution\, on London’s South Bank\, at Wales’ Green Man and many more besides Edinburgh. \nRob has performed throughout the world\, in shows from the Middle East to Melbourne\, Shanghai to the South of France\, and he has appeared on any number of Radio and TV shows\, often using his extensive knowledge of film\, popular music and… well\, ‘general’; he has won Celebrity Mastermind and a comedians’ special of the Weakest Link on BBC One\, for example. \nHe also recently ran all over Britain for BBC 6 Music. Yes\, Rob runs\, presenting the podcast Running Commentary with fellow running comic Paul Tonkinson\, and fundraising for his favoured charity Parkinson’s UK; he has run seven marathons. He produces and hosts Parkinson’s UK’s annual gig Shake With Laughter at London’s Comedy Store\, where he is also a regular member of the Cutting Edge topical comedy team. \n“Truly wonderful stand-up”\nSunday Times \n“Inspired”\nDaily Telegraph \n“One of the leading stand-ups of his generation”\nTime Out[/vc_column_text][dt_default_button bg_hover_color=”#ffffff” border_radius=”0px” border_width=”0px” button_padding=”8px 14px 8px 14px” default_btn_bg_color=”rgba(0\,0\,0\,0.77)” font_size=”13″ icon_size=”13″ link=”url:http%3A%2F%2Fwww.robdeering.com||target:%20_blank|” size=”custom” text_color=”#ffffff” text_hover_color=”#000000″]Visit website[/dt_default_button][/vc_column][/vc_row]
URL:https://www.walnut-tree.co.uk/event/paddy-lennox-rob-deering/
LOCATION:Walnut Tree Inn\, 21 Station Road\, Blisworth\, Northants\, NN7 3DS\, United Kingdom
CATEGORIES:Live Comedy
ATTACH;FMTTYPE=image/png:https://www.walnut-tree.co.uk/wp-content/uploads/2021/02/email-contact.png
END:VEVENT
END:VCALENDAR