BEGIN:VCALENDAR
VERSION:2.0
PRODID:-//Walnut Tree Inn, Northampton - ECPv6.15.11//NONSGML v1.0//EN
CALSCALE:GREGORIAN
METHOD:PUBLISH
X-ORIGINAL-URL:https://www.walnut-tree.co.uk
X-WR-CALDESC:Events for Walnut Tree Inn, Northampton
REFRESH-INTERVAL;VALUE=DURATION:PT1H
X-Robots-Tag:noindex
X-PUBLISHED-TTL:PT1H
BEGIN:VTIMEZONE
TZID:UTC
BEGIN:STANDARD
TZOFFSETFROM:+0000
TZOFFSETTO:+0000
TZNAME:UTC
DTSTART:20180101T000000
END:STANDARD
END:VTIMEZONE
BEGIN:VEVENT
DTSTART;TZID=UTC:20191024T200000
DTEND;TZID=UTC:20191024T233000
DTSTAMP:20260422T113929
CREATED:20190613T163333Z
LAST-MODIFIED:20190613T163333Z
UID:10000693-1571947200-1571959800@www.walnut-tree.co.uk
SUMMARY:Laura Lexx + Sam Avery
DESCRIPTION:[vc_row][vc_column width=”1/2″][vc_single_image source=”featured_image” img_size=”full”][vc_column_text] \nLAURA LEXX is an award-winning comedian and writer. \nLaura’s credits include Live At The Apollo (BBC Two)\, BBC At The Edinburgh Festivals (BBC Two)\, The Comedy Club (BBC Radio 4 Extra) and The Jason Manford Show (Absolute Radio) . \nFollowing a critically-acclaimed run of her show Trying\, Laura won Best Performer in the Comedian’s Choice Awards and was in the top 10 of Dave’s Funniest Joke of the Fringe at the 2018 Edinburgh Fringe. \nLaura won Best MC in the 2017 Comic’s Comic Awards and was nominated as Best Compere in the 2016\, 2017 & 2018 Chortle Comedy Awards. She also reached the finals of the Amused Moose Comedy Award in 2016 & 2018. Laura has gigged at comedy clubs and festivals all over the UK and in Europe as well as providing tour support for Jason Manford\, Tim Vine and Russell Kane. \n“a bouncy\, bubbly stand-up star”\n​The Telegraph \n“One of the most delightful performers you’re ever likely to see” \nGQ \n“a joy… roars of laughter”\nThe Independent[/vc_column_text][dt_default_button bg_hover_color=”#ffffff” border_radius=”0px” border_width=”0px” button_padding=”8px 14px 8px 14px” default_btn_bg_color=”rgba(0\,0\,0\,0.77)” font_size=”13″ icon_size=”13″ link=”url:http%3A%2F%2Fwww.lauralexx.co.uk||target:%20_blank|” size=”custom” text_color=”#ffffff” text_hover_color=”#000000″]Visit website[/dt_default_button][/vc_column][vc_column width=”1/2″][vc_single_image image=”3990″ img_size=”full”][vc_column_text]SAM AVERY wanted to be a rock star. It nearly happened. \nDespite being signed up by BMG Records at the age of 17 (he had to resign from his beloved paper round)\, and subsequent tours with Motorhead and Ice T\, the story soon took a familiar turn. Contracts were anulled\, money was stolen and before he knew it he was back at the paper shop asking for his fluorescent bag back He had crap hair anyway. \nSubsequent jobs (including a brief stint as a stockbroker) failed to excite him the way the smell of sweat and snakebite had and it wasn’t long before he turned to stand-up. \nFriendly and enthusiastic\, his observational style instantly puts audiences at ease allowing him to regale them with his tales of everyday life. \nHe has made radio appearances on BBC 5 Live\, Radio 4\, Radio 4 Extra\, talkSPORT and BBC 6 Music\, where he is a regular guest on the Steve Lamacq Roundtable show. \n“Hilarious”\nDaily Mail \n“A must…very entertaining'”\nThe Sunday Times \n“Amazing and brutally honest…brilliant”\nThe Lad Bible[/vc_column_text][dt_default_button bg_hover_color=”#ffffff” border_radius=”0px” border_width=”0px” button_padding=”8px 14px 8px 14px” default_btn_bg_color=”rgba(0\,0\,0\,0.77)” font_size=”13″ icon_size=”13″ link=”url:http%3A%2F%2Fwww.thelearnerparent.com%2Fp%2Fhome.html||target:%20_blank|” size=”custom” text_color=”#ffffff” text_hover_color=”#000000″]Visit website[/dt_default_button][/vc_column][/vc_row]
URL:https://www.walnut-tree.co.uk/event/laura-lexx-sam-avery/
LOCATION:Walnut Tree Inn\, 21 Station Road\, Blisworth\, Northants\, NN7 3DS\, United Kingdom
CATEGORIES:Featured Event,Live Comedy
ATTACH;FMTTYPE=:
END:VEVENT
END:VCALENDAR