BEGIN:VCALENDAR
VERSION:2.0
PRODID:-//Walnut Tree Inn, Northampton - ECPv6.15.11//NONSGML v1.0//EN
CALSCALE:GREGORIAN
METHOD:PUBLISH
X-ORIGINAL-URL:https://www.walnut-tree.co.uk
X-WR-CALDESC:Events for Walnut Tree Inn, Northampton
REFRESH-INTERVAL;VALUE=DURATION:PT1H
X-Robots-Tag:noindex
X-PUBLISHED-TTL:PT1H
BEGIN:VTIMEZONE
TZID:UTC
BEGIN:STANDARD
TZOFFSETFROM:+0000
TZOFFSETTO:+0000
TZNAME:UTC
DTSTART:20190101T000000
END:STANDARD
END:VTIMEZONE
BEGIN:VEVENT
DTSTART;TZID=UTC:20200528T200000
DTEND;TZID=UTC:20200528T233000
DTSTAMP:20260421T193243
CREATED:20200226T165307Z
LAST-MODIFIED:20200226T165307Z
UID:10000744-1590696000-1590708600@www.walnut-tree.co.uk
SUMMARY:Gordon Southern + Andrew Bird
DESCRIPTION:[vc_row][vc_column width=”1/2″][vc_single_image source=”featured_image” img_size=”full”][vc_column_text]GORDON SOUTHERN is the international word clown. A stand up favourite across Europe and Australasia\, he’s performed in over 30 countries. He is also one of most critically acclaimed comedians at the Edinburgh Fringe\, having performed over a dozen solo shows there. \nA talented actor and award winning writer with critical acclaim for numerous projects that he has worked on\, Southern has written for some of the most memorable comedy shows of the last decade. \nGordon made his Edinburgh debut in the highly respected Comedy Zone in 1997 and has since gone on to take up several successful and acclaimed solo shows which have been nominated for awards in Edinburgh\, Dubai\, Perth (twice) and New Zealand (twice) \nHe has enjoyed sell out runs at the Melbourne International Comedy Festival from 2011- 2015. \nGordon also has a time out comedy award from his days with BBC Radio 4’s Cheese Shop comedy sketch team. As an MC he’s played all over the world including a residency at Edinburgh’s notorious “Late N Live” since 2011 \n“Top class all round.” \nThe Sunday Times \n“Razor sharp wit and cavernous imagination.” \nEvening Standard \n“Hugely talented. Very funny.” \nTime Out[/vc_column_text][dt_default_button link=”url:https%3A%2F%2Fwww.gordonsouthern.com||target:%20_blank|” size=”custom” font_size=”13px” icon_size=”13px” button_padding=”8px 14px 8px 14px” border_radius=”0px” text_color=”#ffffff” default_btn_bg_color=”rgba(0\,0\,0\,0.77)” text_hover_color=”#000000″ bg_hover_color=”#ffffff”]Visit website[/dt_default_button][/vc_column][vc_column width=”1/2″][vc_single_image image=”10888″ img_size=”full”][vc_column_text] \nANDREW BIRD is a top headline act up and down the country and has performed all round the world. \n\n\n\n\nHe has been tour support for Rhod Gilbert\, Rob Brydon and on his recent arena tour Michael McIntyre including Wembley and the O2. He’s one of only seven comedians to perform for Banksy at Dismal Land. He’s written on TV shows Jon Richardson’s Ultimate Worrier\, 8 Out of 10 Cats Does Countdown and Lee Mack’s Duck Quacks Don’t Echo and is a regular guest on BBC Radio’s The Rhod Gilbert Show. \n“Birdie supported me on my arena tour and made me laugh every night. A truly excellent comedian” \nMichael McIntyre \n“A great storyteller\, funny\, likeable and effortless”\nTime Out \n“Comedy gold…Bird’s going to be a big star\, catch him close-up now” \nThe Scotsman \n\n\n\n\n[/vc_column_text][dt_default_button link=”url:http%3A%2F%2Fwww.andrewbirdcomedian.com||target:%20_blank|” size=”custom” font_size=”13px” icon_size=”13px” button_padding=”8px 14px 8px 14px” border_radius=”0px” text_color=”#ffffff” default_btn_bg_color=”rgba(0\,0\,0\,0.77)” text_hover_color=”#000000″ bg_hover_color=”#ffffff”]Visit website[/dt_default_button][/vc_column][/vc_row]
URL:https://www.walnut-tree.co.uk/event/gordon-southern-andrew-bird/
LOCATION:Walnut Tree Inn\, 21 Station Road\, Blisworth\, Northants\, NN7 3DS\, United Kingdom
CATEGORIES:Live Comedy
ATTACH;FMTTYPE=:
END:VEVENT
END:VCALENDAR