BEGIN:VCALENDAR
VERSION:2.0
PRODID:-//Walnut Tree Inn, Northampton - ECPv6.15.11//NONSGML v1.0//EN
CALSCALE:GREGORIAN
METHOD:PUBLISH
X-ORIGINAL-URL:https://www.walnut-tree.co.uk
X-WR-CALDESC:Events for Walnut Tree Inn, Northampton
REFRESH-INTERVAL;VALUE=DURATION:PT1H
X-Robots-Tag:noindex
X-PUBLISHED-TTL:PT1H
BEGIN:VTIMEZONE
TZID:UTC
BEGIN:STANDARD
TZOFFSETFROM:+0000
TZOFFSETTO:+0000
TZNAME:UTC
DTSTART:20240101T000000
END:STANDARD
END:VTIMEZONE
BEGIN:VEVENT
DTSTART;TZID=UTC:20250424T200000
DTEND;TZID=UTC:20250424T230000
DTSTAMP:20260422T104505
CREATED:20250127T184403Z
LAST-MODIFIED:20250402T065247Z
UID:10000889-1745524800-1745535600@www.walnut-tree.co.uk
SUMMARY:Patrick Monahan + Bennett Arron
DESCRIPTION:SUPPORT: DOMINIC HATTON WOODS\nCOMPÈRE: JAMES COOK \nPATRICK MONHAN: Audience favourite Patrick Monahan blends a high energy comedy style with hilarious and engaging topical and observational material. Known for working a room\, Patrick is adored by his audiences with whom he makes an effortless connection! \nPatrick’s current tour: The Talkinator is taking place in 2025. There’s a lot of talk about AI taking over humans these days. Only one man can out-talk the chat-bots & robots! Standup comedy written by a human\, performed by a human! \nEarly in 2014 Patrick took part in the hit family entertainment series ‘Splash!’ (ITV) and appeared on the brand new series of ‘Celebrity Squares’ (ITV). He was also seen on ‘Fake Reaction’ (ITV) and on ‘Man Up’ (Fox) and was a regular 2014 guest on ‘Not The One Show’ (London Live). Last year Patrick could be seen as host of ‘Jongleurs Live!’ (Sky) and on ‘12 Again’ (CBBC/BBC2). \nWinner of the 2011 ITV1 series ‘Show Me The Funny’ which led to the release of his debut DVD ‘Patrick Monahan Live’ (2 Entertain). \n‘Twinkle-toed\, mischievous…Monahan raised the roof’.\nThe Sun \n‘Bright young talent…high energy and conviction\, his material is great; he’s going to go far’.\nSunday Times \n‘This gifted livewire commands the stage with a mix of wit and force of personality’.\nEvening Standard \nBENNETT ARRON is a BAFTA-shortlisted Scriptwriter\, Comedian and Television Presenter. He wrote and starred in two BBC Radio Series: Bennett Arron is Jewelsh\, and Bennett Arron Worries About… both of which were nominated for a Celtic Media Award .He is currently starring in the Radio 4 Sitcom ALONE. \nBennett also wrote the romantic comedy novel The Girl From The Discotheque[7] which was described as “Funny from beginning to end” by Ricky Gervais and “A touching\, funny\, page-turning book about what the heart wants – no matter how irrational. This is romance and comedy with a bruised heart” by Tony Parsons. \nBennett presented the documentary The Kosher Comedian for the BBC and he wrote\, directed and presented the documentary How To Steal An Identity for Channel 4\, in which he stole the identity of the Home Secretary. The programme was Pick of the Week in both The Guardian and The Telegraph. \n“A Welsh Seinfeld” \nThe Guardian \n“Genuinely original and funny” \nThe Times \n“Hilarious… clever wit… razor sharp” \nThe Standard
URL:https://www.walnut-tree.co.uk/event/keith-farnon-bennett-arron/
CATEGORIES:Live Comedy
ATTACH;FMTTYPE=image/jpeg:https://www.walnut-tree.co.uk/wp-content/uploads/2025/01/patrick-monahan2.jpg
END:VEVENT
END:VCALENDAR