BEGIN:VCALENDAR
VERSION:2.0
PRODID:-//Walnut Tree Inn, Northampton - ECPv6.15.11//NONSGML v1.0//EN
CALSCALE:GREGORIAN
METHOD:PUBLISH
X-WR-CALNAME:Walnut Tree Inn, Northampton
X-ORIGINAL-URL:https://www.walnut-tree.co.uk
X-WR-CALDESC:Events for Walnut Tree Inn, Northampton
REFRESH-INTERVAL;VALUE=DURATION:PT1H
X-Robots-Tag:noindex
X-PUBLISHED-TTL:PT1H
BEGIN:VTIMEZONE
TZID:UTC
BEGIN:STANDARD
TZOFFSETFROM:+0000
TZOFFSETTO:+0000
TZNAME:UTC
DTSTART:20240101T000000
END:STANDARD
END:VTIMEZONE
BEGIN:VEVENT
DTSTART;TZID=UTC:20250626T200000
DTEND;TZID=UTC:20250626T230000
DTSTAMP:20260422T054558
CREATED:20250129T105651Z
LAST-MODIFIED:20250129T105651Z
UID:10000891-1750968000-1750978800@www.walnut-tree.co.uk
SUMMARY:Geoff Norcott + Matt Bragg
DESCRIPTION:SUPPORT: JO FRANK\, DYLAN DODDS\nCOMPÈRE: JAMES COOK \nGEOFF NORCOTT is a unique voice in British comedy. Having appeared on Have I Got News For You\, Would I Lie to You\, Live at the Apollo\, Mash Report\, Mock the Week and Question Time he’s built up a significant live following with sell-out Edinburgh runs and two national tours. \nOperating outside the usual comedic commentary on politics and social issues\, Geoff has carved a real niche for himself. With a documentary\, bespoke TV formats plus a UK and an international tour on the horizon\, 2025 is set to be an even bigger year. \n\n\n\n\n“On the comedy circuit Norcott is an absolute tonic”\nThe Telegraph \n\n\n\n\n\n\n\n\n“Norcott is an out and out rebel”\nThe Express \n\n“He’s a class act with a mature\, sharp take on modern politics”\nSunday Times \nMATT BRAGG  is the son of television warm up man Bobby Bragg\, and has been performing stand up all over the country for the last 7 years. With a unique\, low energy\, deadpan style and meticulously crafted material he has been gaining critical acclaim from audiences\, promoters and comedians alike. \nAs well as performing at some of the largest clubs in the UK\, he is tour support for Ricky Gervais\, Harry Hill\, Lloyd Griffith (Soccer AM)\, Suzi Ruffell\, Jason Manford\, John Bishop\, Phoenix Night’s Clinton Baptiste and Scott Bennett. He was also selected for Just The Tonic’s Big Value showcase at Edinburgh Festival in 2019 and finished runner up in Leicester Mercury’s Comedian of The Year 2020. \nHis debut show ‘Matt Bragg has nothing wrong with him’ is showing throughout 2025. \n“Classic comedy\, effortless style”\nRicky Gervais \n“Incredibly and effortlessly funny\, had the audience in the palm of his hand as soon as he stepped on the stage. \nIf you haven’t seen him yet\, then I strongly suggest you make haste to do so.”\nComedy Cow Blog
URL:https://www.walnut-tree.co.uk/event/geoff-norcott-matt-bragg/
CATEGORIES:Live Comedy
ATTACH;FMTTYPE=image/jpeg:https://www.walnut-tree.co.uk/wp-content/uploads/2021/03/geoff-norcott.jpg
END:VEVENT
END:VCALENDAR