BEGIN:VCALENDAR
VERSION:2.0
PRODID:-//Walnut Tree Inn, Northampton - ECPv6.15.11//NONSGML v1.0//EN
CALSCALE:GREGORIAN
METHOD:PUBLISH
X-WR-CALNAME:Walnut Tree Inn, Northampton
X-ORIGINAL-URL:https://www.walnut-tree.co.uk
X-WR-CALDESC:Events for Walnut Tree Inn, Northampton
REFRESH-INTERVAL;VALUE=DURATION:PT1H
X-Robots-Tag:noindex
X-PUBLISHED-TTL:PT1H
BEGIN:VTIMEZONE
TZID:UTC
BEGIN:STANDARD
TZOFFSETFROM:+0000
TZOFFSETTO:+0000
TZNAME:UTC
DTSTART:20180101T000000
END:STANDARD
END:VTIMEZONE
BEGIN:VEVENT
DTSTART;TZID=UTC:20190228T200000
DTEND;TZID=UTC:20190228T230000
DTSTAMP:20260423T083317
CREATED:20181129T161632Z
LAST-MODIFIED:20181129T161632Z
UID:10000627-1551384000-1551394800@www.walnut-tree.co.uk
SUMMARY:Alfie Moore + Tanyalee Davis
DESCRIPTION:[vc_row][vc_column width=”1/2″][vc_single_image source=”featured_image” img_size=”full”][vc_column_text]ALFIE MOORE is an original and distinctive comedian with his niche area as a serving police sergeant. He came slightly later to comedy and brings a wealth of insights and comedy moments from his eighteen years on the beat\, where a keen sense of humour has been the key to his success and survival! \nAlfie was inspired to take up stand-up comedy in 2007 after his first taste of live comedy at a local comedy club. He quickly became well and truly hooked and was soon performing regularly up and down the country. \nHe has an observational comedic style\, which lends itself to witty\, and sometimes gritty\, anecdotes based on everyday modern policing. He also is an adept socio-political commentator and weaves this all together with his take on the “comedy gold” of life. \nAlfie can be heard on Radio 4’s “It’s Fair Cop” and was one of the stars of “Show Me The Funny” (ITV) and wrote and presented “Alfie Moore’s Almanac” for BBC Radio. More recently he has been featured on The Wright Stuff (Channel 5)\, Comic Relief\, Sky News\, BBC Radio 4’s Idiots Guide to Crime and Punishment\, BBC Look North\, ITV Calendar\, Bizarre Crime (BBC 3)\, and Confessions of a Police Officer (Channel 4). \n“Genuinely funny\, sharp observational comedy.”\nChortle \n“a show you do not want to end”\nThe Scotsman \n“There is no doubt the man is funny\, he knows what he’s talking about.”\nSunday Express[/vc_column_text][dt_default_button bg_hover_color=”#ffffff” border_radius=”0px” border_width=”0px” button_padding=”8px 14px 8px 14px” default_btn_bg_color=”rgba(0\,0\,0\,0.77)” font_size=”13″ icon_size=”13″ link=”url:http%3A%2F%2Falfiemoore.com%2F||target:%20_blank|” size=”custom” text_color=”#ffffff” text_hover_color=”#000000″]Visit website[/dt_default_button][/vc_column][vc_column width=”1/2″][vc_single_image image=”713″ img_size=”full”][vc_column_text]TANYALEE DAVIS is a 3 foot 6 inch standup comedian who inspires\, enlightens\, and entertains her audiences while headlining at comedy clubs\, colleges\, and comedy festivals throughout North America\, the UK\, and other parts of the world with her own unique perspective and somewhat racy brand of comedy. \nAt 3’6″\, Tanyalee is the Ferrari of comedy – low to the ground and kind of racy. Canadian born\, Tanyalee currently is making the stage her home by touring all over the world bringing the funny! \nTanyalee had a successful 6 month contract performing “Little Comedian\, BIG Laughs” just off the Las Vegas Strip. Tanyalee is part ofÂÂ Abnormally Funny People\, an ensemble show\, performing throughout the United Kingdom. In 2007 Tanyalee premiered her first one woman show called “Little Do They Know” at the Edinburgh Fringe Festival where she received 4 star reviews.[/vc_column_text][dt_default_button bg_hover_color=”#ffffff” border_radius=”0px” border_width=”0px” button_padding=”8px 14px 8px 14px” default_btn_bg_color=”rgba(0\,0\,0\,0.77)” font_size=”13″ icon_size=”13″ link=”url:https%3A%2F%2Ftanyaleedavis.com%2F||target:%20_blank|” size=”custom” text_color=”#ffffff” text_hover_color=”#000000″]Visit website[/dt_default_button][/vc_column][/vc_row]
URL:https://www.walnut-tree.co.uk/event/alfie-moore-tanyalee-davis/
LOCATION:Walnut Tree Inn\, 21 Station Road\, Blisworth\, Northants\, NN7 3DS\, United Kingdom
CATEGORIES:Live Comedy
ATTACH;FMTTYPE=:
END:VEVENT
END:VCALENDAR