BEGIN:VCALENDAR
VERSION:2.0
PRODID:-//Walnut Tree Inn, Northampton - ECPv6.15.11//NONSGML v1.0//EN
CALSCALE:GREGORIAN
METHOD:PUBLISH
X-WR-CALNAME:Walnut Tree Inn, Northampton
X-ORIGINAL-URL:https://www.walnut-tree.co.uk
X-WR-CALDESC:Events for Walnut Tree Inn, Northampton
REFRESH-INTERVAL;VALUE=DURATION:PT1H
X-Robots-Tag:noindex
X-PUBLISHED-TTL:PT1H
BEGIN:VTIMEZONE
TZID:UTC
BEGIN:STANDARD
TZOFFSETFROM:+0000
TZOFFSETTO:+0000
TZNAME:UTC
DTSTART:20190101T000000
END:STANDARD
END:VTIMEZONE
BEGIN:VEVENT
DTSTART;TZID=UTC:20200430T200000
DTEND;TZID=UTC:20200430T233000
DTSTAMP:20260421T224648
CREATED:20200224T174250Z
LAST-MODIFIED:20200224T174250Z
UID:10000743-1588276800-1588289400@www.walnut-tree.co.uk
SUMMARY:Troy Hawke + Graeme Mathews
DESCRIPTION:[vc_row][vc_column width=”1/2″][vc_single_image source=”featured_image” img_size=”full”][vc_column_text]TROY HAWKE (Milo McCabe) is an erudite homeschooled 1930’s throwback…the Errol Flynn of the high street. Educated\, sophisticated\, but utterly clueless. He tackles modern issues head on in his uniquely untimely manner. \nMilo McCabe is a character comedian with over ten years experience on the circuit. He has twice been nominated for the Amused Moose Best Edinburgh show award and was listed as GQ’s Top Ten comedy shows of the festival. TV credits include ITV’S Benidorm\, BBC3’s Live at the Electric and various hidden camera and talking heads projects on Channel 4 and 5. As himself\, he is shortly to appear in US documentary ‘Everyone has an Andy Dick story’. As Troy Hawke he is currently touring comedy clubs and festivals. \n“undeniably funny”\nChortle \n“Milo McCabe’s creation is quite superb…blisteringly funny\, with perfectly worded jokes”\nBroadway Baby \n“outstanding character comedian…massive amounts of fun”\nThe Skinny \n“mad comic genius”\nThe Scotsman[/vc_column_text][dt_default_button link=”url:http%3A%2F%2Fwww.milomccabe.co.uk||target:%20_blank|” size=”custom” font_size=”13px” icon_size=”13px” button_padding=”8px 14px 8px 14px” border_radius=”0px” text_color=”#ffffff” default_btn_bg_color=”rgba(0\,0\,0\,0.77)” text_hover_color=”#000000″ bg_hover_color=”#ffffff”]Visit website[/dt_default_button][/vc_column][vc_column width=”1/2″][vc_single_image image=”10817″ img_size=”full”][vc_column_text]GRAEME MATHEWS has been a professional comedian for nearly 10 years and in this time he has appeared at a whole host of venues across the U.K. Graeme’s cheeky Essex boy style can be adapted to appeal to all sorts of audiences\, he is equally at home performing in a small pub as he is performing on a stage in front of a huge audience. \nHe was a semi-finalist on Britain’s Got Talent 2019. \nExpect a loud in your face comedy performer who not only tells jokes\, but eats fire\, performs magic\, makes unusual balloon models but above all holds an audience in the palm of his hand. Graeme can perform up to an hour one show but he has become particularly sort after as a compere/MC on comedy bills as he has a natural report with an audience and a is superb at ‘Bantering’ with the crowd. \n“Very funny and different”\nGraham Norton \n“One of the best MC’s on the circuit”\nLaugh out Loud Comedy Clubs \n“Graeme is an entertainer\, the only half naked fire eating comic on the circuit and an excellent established host and headline act.” \nLaughing Pod Comedy[/vc_column_text][/vc_column][/vc_row]
URL:https://www.walnut-tree.co.uk/event/troy-hawke-graeme-matthews/
LOCATION:Walnut Tree Inn\, 21 Station Road\, Blisworth\, Northants\, NN7 3DS\, United Kingdom
CATEGORIES:Live Comedy
ATTACH;FMTTYPE=:
END:VEVENT
END:VCALENDAR