BEGIN:VCALENDAR
VERSION:2.0
PRODID:-//Walnut Tree Inn, Northampton - ECPv6.15.11//NONSGML v1.0//EN
CALSCALE:GREGORIAN
METHOD:PUBLISH
X-ORIGINAL-URL:https://www.walnut-tree.co.uk
X-WR-CALDESC:Events for Walnut Tree Inn, Northampton
REFRESH-INTERVAL;VALUE=DURATION:PT1H
X-Robots-Tag:noindex
X-PUBLISHED-TTL:PT1H
BEGIN:VTIMEZONE
TZID:UTC
BEGIN:STANDARD
TZOFFSETFROM:+0000
TZOFFSETTO:+0000
TZNAME:UTC
DTSTART:20190101T000000
END:STANDARD
END:VTIMEZONE
BEGIN:VEVENT
DTSTART;TZID=UTC:20200829T143000
DTEND;TZID=UTC:20200829T170000
DTSTAMP:20260421T163434
CREATED:20200813T171801Z
LAST-MODIFIED:20200813T171801Z
UID:10000746-1598711400-1598720400@www.walnut-tree.co.uk
SUMMARY:Tom Binns (The Psychic Comedium) + Ivan Brackenbury
DESCRIPTION:SOLD OUT! As the weather is looking a bit iffy\, we will be hosting this event indoors with social distancing in place.  \nMulti-award-winning comedian Tom Binns has performed his ‘Psychic’ Character Ian D Montfort to 5-star reviews around The World and in the smash-hit British film “Eaten by Lions” \nHe’s entertained and amazed sceptics and believers alike on his own BBC Radio 2 series ‘Ian D Montfort is: Unbelievable’ and his critically acclaimed BBC 1 Friday night series Hospital People . \nDuring this time Tom claims to have discovered a genuine ‘psychic’ ability and now performs as The ‘Psychic’ Comedium. In his performances Tom clearly makes jaw-dropping revelations about his audience but is he gifted or is he deluded or is he just full of shit? \nWhatever you decide his gift for comedy is undeniable and his ‘psychic’ powers are unbelievable! \nTom will be supported by 8/10 Cats Do Countdown\, Dictionary Corner favourite and Edinburgh Comedy Award Nominee – Hospital Radio DJ Ivan Brackenbury. \nHe is also an award-winning and critically acclaimed character comedian working the International Comedy Festivals and the UK Stand Up Comedy Circuit. \nHis ventriloquist act\, alter egos: Hospital radio DJ Ivan Brackenbury and The ‘Psychic’ Comedium have won him over 30 five star reviews and many awards both at home and abroad including Fosters Comedy God and Best International Comedian. \nThe Psychic Comedium is\, “a masterclass in improvisation\, character comedy and mindreading”\nThe Daily Telegraph \nWith DJ Ivan Brackenbury\, “Binns has his character nailed and he mines the comic seam\, ruthlessly to create top-quality entertainment with practically universal appeal’”\nThe Guardian \nThe ventriloquist act\, ‘”Not only is the running gag a thing of comedy genius\, but Binns tags it jaw-droppingly brilliantly”\nThe Scotsman
URL:https://www.walnut-tree.co.uk/event/tom-binns-the-psychic-comedium-ivan-brackenbury/
LOCATION:Walnut Tree Inn\, 21 Station Road\, Blisworth\, Northants\, NN7 3DS\, United Kingdom
CATEGORIES:Live Comedy
ATTACH;FMTTYPE=:
END:VEVENT
END:VCALENDAR