BEGIN:VCALENDAR
VERSION:2.0
PRODID:-//Walnut Tree Inn, Northampton - ECPv6.15.11//NONSGML v1.0//EN
CALSCALE:GREGORIAN
METHOD:PUBLISH
X-ORIGINAL-URL:https://www.walnut-tree.co.uk
X-WR-CALDESC:Events for Walnut Tree Inn, Northampton
REFRESH-INTERVAL;VALUE=DURATION:PT1H
X-Robots-Tag:noindex
X-PUBLISHED-TTL:PT1H
BEGIN:VTIMEZONE
TZID:UTC
BEGIN:STANDARD
TZOFFSETFROM:+0000
TZOFFSETTO:+0000
TZNAME:UTC
DTSTART:20240101T000000
END:STANDARD
END:VTIMEZONE
BEGIN:VEVENT
DTSTART;TZID=UTC:20250529T200000
DTEND;TZID=UTC:20250529T230000
DTSTAMP:20260422T074038
CREATED:20250128T164942Z
LAST-MODIFIED:20250529T091858Z
UID:10000890-1748548800-1748559600@www.walnut-tree.co.uk
SUMMARY:Ben Norris + Scott Bennett - SOLD OUT
DESCRIPTION:SUPPORT: BARNABY SLATER\nCOMPÈRE: CARL JONES \nBEN NORRIS is a highly experienced and well-respected stand up. He is renowned for his incredibly relaxed stage persona and his innate ability to improvise and deliver sharply crafted material. In addition to performing three solo shows at the Edinburgh Festival\, Ben is a regular headliner at the UK’s top comedy clubs\, including The Comedy Store\, where he is a member of the long-running topical news show\, The Cutting Edge. \nHis TV appearances include Mock the Week (BBC One)\, Live at the Comedy Store (Comedy Central)\, Never Mind the Buzzcocks (BBC Two) and They Think It’s All Over (BBC Two). Ben was Ed Byrne’s tour support for his 2013 UK tour and appeared at the Apollo\, Hammersmith. \n“Impressively dark surrealism…”\nBruce Dessau\, Evening Standard \n\n“…one of the comedy circuits best improvisers”\nDaily Mirror \n“With 20 years on the clock\, Norris is one of the most bankable headliners around and is a brilliant improviser.”\nThe Guardian \n\n\n\n\n\nSCOTT BENNETT is a stand-up comedian and writer who’s star is most definitely on the rise. \nHe made his debut on BBC One’s Live at the Apollo last year and was nominated for Best Club Comedian by Chortle in 2022. \nHis last two shows Leap Year and Relax were nominated for ‘Best Show’ at the Leicester Comedy Festival and has been named by Chortle as One To Watch for 2018 and 19. \nHis debut hour stand up show About a Roy was nominated for the highly acclaimed Amused Moose Comedy Award and was selected as one of the top ten shows at the Edinburgh Fringe Festival in 2015. \nHe has appeared on BBC Radio 4’s The News Quiz\, The Now Show\, The Likely Dads and Elephant in the Room with Sarah Millican\, The Summer Festival with Daliso Chaponda\, The Comedy Club with Arthur Smith\, and Knock Knock with Helen Lederer. He also featured on the BBC One show\, Live from The Edinburgh Fringe. \n“Great material\, great delivery\, a very funny man”  \nRob Brydon \n“A joy to watch” \nChris Ramsey \n“Fabulous turns of phrase and pungent expressions\, superb character creations” \nEdinburgh Fringe Review
URL:https://www.walnut-tree.co.uk/event/ben-norris-scott-bennett/
CATEGORIES:Live Comedy
ATTACH;FMTTYPE=image/jpeg:https://www.walnut-tree.co.uk/wp-content/uploads/2025/01/ben-norris.jpg
END:VEVENT
END:VCALENDAR