BEGIN:VCALENDAR
VERSION:2.0
PRODID:-//Walnut Tree Inn, Northampton - ECPv6.15.11//NONSGML v1.0//EN
CALSCALE:GREGORIAN
METHOD:PUBLISH
X-WR-CALNAME:Walnut Tree Inn, Northampton
X-ORIGINAL-URL:https://www.walnut-tree.co.uk
X-WR-CALDESC:Events for Walnut Tree Inn, Northampton
REFRESH-INTERVAL;VALUE=DURATION:PT1H
X-Robots-Tag:noindex
X-PUBLISHED-TTL:PT1H
BEGIN:VTIMEZONE
TZID:UTC
BEGIN:STANDARD
TZOFFSETFROM:+0000
TZOFFSETTO:+0000
TZNAME:UTC
DTSTART:20240101T000000
END:STANDARD
END:VTIMEZONE
BEGIN:VEVENT
DTSTART;TZID=UTC:20250925T200000
DTEND;TZID=UTC:20250925T230000
DTSTAMP:20260422T023452
CREATED:20250530T105244Z
LAST-MODIFIED:20250530T105244Z
UID:10000899-1758830400-1758841200@www.walnut-tree.co.uk
SUMMARY:Paul Thorne + Sean Heydon
DESCRIPTION:SUPPORT: ADAM RILEY + PARAS\nCOMPÈRE: JAMES COOK \nPAUL THORNE can regularly be seen headlining the UK’s biggest and best comedy clubs. His well crafted material\, spontaneous wit\, and surreal comedy songs have earned him a reputation as a quality live performer both at home and as far afield as Canada\, Australia\, Dubai\, Hong Kong\, Thailand\, Singapore\, China\, and Japan. \nComedy festival appearances include Edinburgh\, Melbourne\, Adelaide\, Newcastle\, Leicester and Bath as well as two critically acclaimed tours of fringe festivals across the length of Canada including Toronto\, Edmonton and Vancouver. \nThis culminated in a successful residency in London’s West End at The Leicester Square Theatre performing a brand new topical solo show. \nTV credits include The Comedy Store (Comedy Central)\, The Stand Up Show (BBC One)\, Comedy Bigmouths (Channel 5)\, It’s Later Than You Think (BBC1)\, Oddballs (ITV) and The World Stands Up (Paramount). He also served as Team Captain on three series of the Montreux Award-winning comedy panel game Bring Me the Head of Light Entertainment hosted by Graham Norton (Channel 5). \nOn Radio\, he’s guested on Cabaret on Four (BBC Radio 4)\, The Lost Weblog of Scrooby Trevithick with Andy Parsons (BBC Radio 4) and Hold the Front Page (BBC Radio 4). \n“A must-see comedian”\nThe Guardian \n“Makes working an audience look effortless” \nThe Stage \n“Paul Thorne’s satirical songs\, with his own guitar accompaniment\, a waspish\, sweary pleasure” \nDaily Telegraph \n\n\n\n\nSEAN HEYDON has been performing in some of the world’s most prestigious venues for A-list celebrities and blue chip companies for over 15 years now with his unique style of madcap comedy and magic.  \nSean has many television credits to his name including ITV’s Britain’s Got Talent\, Soccer AM on SKY ONE and for three seasons he was the resident magician on The Paul O’Grady Show on Channel 4.  \nSean is a multi-award winning entertainer. Sean has won numerous awards for his headlining appearances at Comedy Clubs and Corporate events including ‘Specialty Act of the Year’. This was awarded by some of the finest agents and talent bookers in the UK.  \n“Britain’s Got Talent’s most jaw-dropping magician” \nThe Evening Standard \n“Magic is real! You literally turned back time!”  \nSimon Cowell
URL:https://www.walnut-tree.co.uk/event/paul-thorne-sean-heydon/
CATEGORIES:Live Comedy
ATTACH;FMTTYPE=image/jpeg:https://www.walnut-tree.co.uk/wp-content/uploads/2025/05/Paul-Thorne.jpg
END:VEVENT
END:VCALENDAR