BEGIN:VCALENDAR
VERSION:2.0
PRODID:-//Walnut Tree Inn, Northampton - ECPv6.15.11//NONSGML v1.0//EN
CALSCALE:GREGORIAN
METHOD:PUBLISH
X-ORIGINAL-URL:https://www.walnut-tree.co.uk
X-WR-CALDESC:Events for Walnut Tree Inn, Northampton
REFRESH-INTERVAL;VALUE=DURATION:PT1H
X-Robots-Tag:noindex
X-PUBLISHED-TTL:PT1H
BEGIN:VTIMEZONE
TZID:UTC
BEGIN:STANDARD
TZOFFSETFROM:+0000
TZOFFSETTO:+0000
TZNAME:UTC
DTSTART:20240101T000000
END:STANDARD
END:VTIMEZONE
BEGIN:VEVENT
DTSTART;TZID=UTC:20251030T200000
DTEND;TZID=UTC:20251030T230000
DTSTAMP:20260422T005523
CREATED:20250714T064424Z
LAST-MODIFIED:20250714T064424Z
UID:10000904-1761854400-1761865200@www.walnut-tree.co.uk
SUMMARY:Darryl Purvis + Markus Birdman
DESCRIPTION:SUPPORT: AARON WILLIAMS • JIM BROWN\nCOMPÈRE: JAMES COOK \nDARRYL PURVIS is a Canadian comedian known for his quick wit and relatable storytelling. With a style that’s both laid-back and sharp\, Darryl dives into everyday observations and unique perspectives on life’s absurdities\, drawing laughs from audiences with his authentic\, down-to-earth humor. \nOver his career\, he has performed across North America\, bringing his blend of dry humor and clever insights to clubs\, festivals\, and television. Darryl’s comedy has earned him a loyal following\, and his easy-going style makes him a standout act in the comedy scene. \nMARKUS BIRDMAN is one of British comedy’s most experienced and well-travelled performers. In demand all over the UK and abroad\, Markus is a veteran of the Edinburgh Fringe with 11 solo shows to his credit and headliner status at all the top clubs\, including The Comedy Store\, The Komedia\, Hot Water\, The Stand and Soho Theatre. He’s performed at the Melbourne\, Adelaide\, and Perth Comedy Festivals and was nominated by the New Zealand Comedy Guild for Best International Guest. His international gig list includes Pakistan\, Singapore\, China\, UAE\,  Austria\, Spain\, Norway\, Sweden\, Finland and India to name a few. Which has been nice\, considering no-one’s now going anywhere. \nHe had his own Netflix Stand Up Special\, ‘Live in Amsterdam’ and was also co-writer on Jayde Adams’s Amazon Prime Stand Up Special\, ‘Serious Black Jumper’ \n“Delightfully comic. Controversial\, personal and wickedly punchy.” \nThe List \n“Engagingly mixes the silly and the downright wrong.” \nChortle \n“A consummate comic…. energetic\, engaging\, thought-provoking and funny.”\nThe Stage
URL:https://www.walnut-tree.co.uk/event/darryl-purvis-markus-birdman/
CATEGORIES:Live Comedy
ATTACH;FMTTYPE=image/jpeg:https://www.walnut-tree.co.uk/wp-content/uploads/2025/07/darryl-purvis.jpg
END:VEVENT
END:VCALENDAR