BEGIN:VCALENDAR
VERSION:2.0
PRODID:-//Walnut Tree Inn, Northampton - ECPv6.15.11//NONSGML v1.0//EN
CALSCALE:GREGORIAN
METHOD:PUBLISH
X-ORIGINAL-URL:https://www.walnut-tree.co.uk
X-WR-CALDESC:Events for Walnut Tree Inn, Northampton
REFRESH-INTERVAL;VALUE=DURATION:PT1H
X-Robots-Tag:noindex
X-PUBLISHED-TTL:PT1H
BEGIN:VTIMEZONE
TZID:UTC
BEGIN:STANDARD
TZOFFSETFROM:+0000
TZOFFSETTO:+0000
TZNAME:UTC
DTSTART:20240101T000000
END:STANDARD
END:VTIMEZONE
BEGIN:VEVENT
DTSTART;TZID=UTC:20251230T200000
DTEND;TZID=UTC:20251230T230000
DTSTAMP:20260421T213938
CREATED:20251023T103820Z
LAST-MODIFIED:20251023T103820Z
UID:10000906-1767124800-1767135600@www.walnut-tree.co.uk
SUMMARY:Matt Stellingwerf + Terry Alderton
DESCRIPTION:SUPPORT: HAZEL DONOVAN + PARAS\nCOMPÈRE: JAMES COOK \nMATT STELLINGWERF is a fast rising star on the international comedy scene\, and highly regarded by his peers. Matt has won four NZ Comedy Guild Awards\, been nominated for several others\, and was nominated as Best Newcomer at the 2014 NZ International Comedy Festival. Matt was a 2015 and 2016 nominee for the prestigious Billy T Award. A renowned MC and compere\, Matt is a 3-time nominee for Best MC in New Zealand. \nHamilton-born and Wanganui-raised farmer’s son and trained criminologist\, an award-winning bar fly…and genuinely lovely guy\, Matt Stellingwerf is a man of contradictions. He expertly brings these contradictions to the stage with his typical low-key style and confidence\, finding the humour in topics as diverse as love\, mental illness\, sex\, drugs\, and this crazy interview he once conducted with a serial killer on Death Row! \nMatt now brings a worldview inspired by alcoholic shearing gangs\, bizarre Dutch relatives\, and criminological theory to the stage and attempts to answer some of life’s enduring mysteries. So come along\, grab a brew and have a laugh! \nHe has toured extensively\, performing throughout NZ\, Australia\, the USA & the United Kingdom. \n“Raises the comedy bar…and erudite satire superstar”\nTheatreview \nTERRY ALDERTON has always been something special. With a set full of extraordinary caricatures – where he famously is interrupted\, and with his back turned\, battles with his TWO inner voices’  – and some stunningly acute impressions\, observations and a hyperactive delivery\, stand-up performer Terry Alderton is loved by comics and fans alike.  \nTV appearance include: Live at the Apollo (BBC)\, Michael McIntyre’s Comedy Roadshow (BBC)\, The Harry Hill Show (CH4) and The Jonathan Ross Show. Acting credits in Eastenders and London’s Burning. \n“He’s a very funny man with a ‘fantastic comedy mind\, but someone who really ought to seek some sort of professional help”\nEddie Izzard.
URL:https://www.walnut-tree.co.uk/event/matt-stellingwerf-terry-alderton/
CATEGORIES:Live Comedy
ATTACH;FMTTYPE=image/jpeg:https://www.walnut-tree.co.uk/wp-content/uploads/2022/12/matt-stellingwerf.jpg
END:VEVENT
END:VCALENDAR