BEGIN:VCALENDAR
VERSION:2.0
PRODID:-//Walnut Tree Inn, Northampton - ECPv6.15.11//NONSGML v1.0//EN
CALSCALE:GREGORIAN
METHOD:PUBLISH
X-WR-CALNAME:Walnut Tree Inn, Northampton
X-ORIGINAL-URL:https://www.walnut-tree.co.uk
X-WR-CALDESC:Events for Walnut Tree Inn, Northampton
REFRESH-INTERVAL;VALUE=DURATION:PT1H
X-Robots-Tag:noindex
X-PUBLISHED-TTL:PT1H
BEGIN:VTIMEZONE
TZID:UTC
BEGIN:STANDARD
TZOFFSETFROM:+0000
TZOFFSETTO:+0000
TZNAME:UTC
DTSTART:20190101T000000
END:STANDARD
END:VTIMEZONE
BEGIN:VEVENT
DTSTART;TZID=UTC:20200105T120000
DTEND;TZID=UTC:20200105T143000
DTSTAMP:20260422T013045
CREATED:20191227T154935Z
LAST-MODIFIED:20191227T154935Z
UID:10000606-1578225600-1578234600@www.walnut-tree.co.uk
SUMMARY:Not Yer Standard Jazz Band!
DESCRIPTION:this will be different..with Boysey Battrum (sax legend)\, Richard Baker (trombone)\, Stewart Russell (drums)\, Tom Purr (bass)\, Jamie Osborne (guitar..director of The County Youth Big Band) and Krystel Morrison (vocals\, from Jazz Colossus). \nTickets £10 on the door.\nFor reservations and enquiries call Tad Newton on 01604 858549.
URL:https://www.walnut-tree.co.uk/event/not-yer-standard-jazz-band/
LOCATION:Walnut Tree Inn\, 21 Station Road\, Blisworth\, Northants\, NN7 3DS\, United Kingdom
CATEGORIES:Live Jazz
ATTACH;FMTTYPE=:
END:VEVENT
BEGIN:VEVENT
DTSTART;TZID=UTC:20200112T120000
DTEND;TZID=UTC:20200112T143000
DTSTAMP:20260422T013045
CREATED:20191227T153541Z
LAST-MODIFIED:20191227T153541Z
UID:10000605-1578830400-1578839400@www.walnut-tree.co.uk
SUMMARY:The Fenny Stompers
DESCRIPTION:Tickets £10 on the door.\nFor reservations and enquiries call Tad Newton on 01604 858549.
URL:https://www.walnut-tree.co.uk/event/the-fenny-stompers/
LOCATION:Walnut Tree Inn\, 21 Station Road\, Blisworth\, Northants\, NN7 3DS\, United Kingdom
CATEGORIES:Live Jazz
ATTACH;FMTTYPE=:
END:VEVENT
BEGIN:VEVENT
DTSTART;TZID=UTC:20200126T120000
DTEND;TZID=UTC:20200126T143000
DTSTAMP:20260422T013045
CREATED:20191227T155143Z
LAST-MODIFIED:20191227T155143Z
UID:10000607-1580040000-1580049000@www.walnut-tree.co.uk
SUMMARY:Dave Harmer's New Orleans Hotshots
DESCRIPTION:Tickets £10 on the door.\nFor reservations and enquiries call Tad Newton on 01604 858549.
URL:https://www.walnut-tree.co.uk/event/dave-harmers-new-orleans-hotshots/
LOCATION:Walnut Tree Inn\, 21 Station Road\, Blisworth\, Northants\, NN7 3DS\, United Kingdom
CATEGORIES:Live Jazz
ATTACH;FMTTYPE=:
END:VEVENT
END:VCALENDAR