BEGIN:VCALENDAR
VERSION:2.0
PRODID:-//Walnut Tree Inn, Northampton - ECPv6.15.11//NONSGML v1.0//EN
CALSCALE:GREGORIAN
METHOD:PUBLISH
X-ORIGINAL-URL:https://www.walnut-tree.co.uk
X-WR-CALDESC:Events for Walnut Tree Inn, Northampton
REFRESH-INTERVAL;VALUE=DURATION:PT1H
X-Robots-Tag:noindex
X-PUBLISHED-TTL:PT1H
BEGIN:VTIMEZONE
TZID:UTC
BEGIN:STANDARD
TZOFFSETFROM:+0000
TZOFFSETTO:+0000
TZNAME:UTC
DTSTART:20250101T000000
END:STANDARD
END:VTIMEZONE
BEGIN:VEVENT
DTSTART;TZID=UTC:20260104T123000
DTEND;TZID=UTC:20260104T150000
DTSTAMP:20260421T171917
CREATED:20251207T085755Z
LAST-MODIFIED:20251207T085755Z
UID:10000910-1767529800-1767538800@www.walnut-tree.co.uk
SUMMARY:Matt Palmer Go-Getters
DESCRIPTION:Tickets £15.00 in advance.\nFor reservations and enquiries call Tad Newton on 01604 858549
URL:https://www.walnut-tree.co.uk/event/matt-palmer-go-getters/
CATEGORIES:Live Jazz
ATTACH;FMTTYPE=image/jpeg:https://www.walnut-tree.co.uk/wp-content/uploads/2025/12/matt-palmer.jpg
END:VEVENT
BEGIN:VEVENT
DTSTART;TZID=UTC:20260118T123000
DTEND;TZID=UTC:20260118T150000
DTSTAMP:20260421T171917
CREATED:20190327T155120Z
LAST-MODIFIED:20251207T090148Z
UID:10000569-1768739400-1768748400@www.walnut-tree.co.uk
SUMMARY:The Richard Exall Quartet
DESCRIPTION:Tickets £15.00 in advance.\nFor reservations and enquiries call Tad Newton on 01604 858549.
URL:https://www.walnut-tree.co.uk/event/richard-exall-quartet/
LOCATION:Walnut Tree Inn\, 21 Station Road\, Blisworth\, Northants\, NN7 3DS\, United Kingdom
CATEGORIES:Live Jazz
ATTACH;FMTTYPE=image/jpeg:https://www.walnut-tree.co.uk/wp-content/uploads/2024/03/richard-exall.jpg
END:VEVENT
END:VCALENDAR