BEGIN:VCALENDAR
VERSION:2.0
PRODID:-//Walnut Tree Inn, Northampton - ECPv6.15.11//NONSGML v1.0//EN
CALSCALE:GREGORIAN
METHOD:PUBLISH
X-ORIGINAL-URL:https://www.walnut-tree.co.uk
X-WR-CALDESC:Events for Walnut Tree Inn, Northampton
REFRESH-INTERVAL;VALUE=DURATION:PT1H
X-Robots-Tag:noindex
X-PUBLISHED-TTL:PT1H
BEGIN:VTIMEZONE
TZID:UTC
BEGIN:STANDARD
TZOFFSETFROM:+0000
TZOFFSETTO:+0000
TZNAME:UTC
DTSTART:20180101T000000
END:STANDARD
END:VTIMEZONE
BEGIN:VEVENT
DTSTART;TZID=UTC:20190512T120000
DTEND;TZID=UTC:20190512T143000
DTSTAMP:20260422T181216
CREATED:20190327T172432Z
LAST-MODIFIED:20190327T172432Z
UID:10000573-1557662400-1557671400@www.walnut-tree.co.uk
SUMMARY:The Chicago Teddy Bears' Society Jazz Band
DESCRIPTION:Great band from Liverpool in a very rare appearance outside the North West. \nTickets (£10) available from Tad Newton 01604 858549
URL:https://www.walnut-tree.co.uk/event/the-chicago-teddy-bears-society-jazz-band/
LOCATION:Walnut Tree Inn\, 21 Station Road\, Blisworth\, Northants\, NN7 3DS\, United Kingdom
CATEGORIES:Live Jazz
ATTACH;FMTTYPE=:
END:VEVENT
END:VCALENDAR