BEGIN:VCALENDAR
VERSION:2.0
PRODID:-//Walnut Tree Inn, Northampton - ECPv6.15.11//NONSGML v1.0//EN
CALSCALE:GREGORIAN
METHOD:PUBLISH
X-ORIGINAL-URL:https://www.walnut-tree.co.uk
X-WR-CALDESC:Events for Walnut Tree Inn, Northampton
REFRESH-INTERVAL;VALUE=DURATION:PT1H
X-Robots-Tag:noindex
X-PUBLISHED-TTL:PT1H
BEGIN:VTIMEZONE
TZID:UTC
BEGIN:STANDARD
TZOFFSETFROM:+0000
TZOFFSETTO:+0000
TZNAME:UTC
DTSTART:20190101T000000
END:STANDARD
END:VTIMEZONE
BEGIN:VEVENT
DTSTART;TZID=UTC:20200301T120000
DTEND;TZID=UTC:20200301T143000
DTSTAMP:20260421T221447
CREATED:20190327T171747Z
LAST-MODIFIED:20190327T171747Z
UID:10000572-1583064000-1583073000@www.walnut-tree.co.uk
SUMMARY:Tad Newton's Jazz Friends
DESCRIPTION:Basin Street to Basie…and Beyond! \nTickets £10 on the door.\nFor reservations and enquiries call Tad Newton on 01604 858549.
URL:https://www.walnut-tree.co.uk/event/tad-newton-jazz-friends-special/
LOCATION:Walnut Tree Inn\, 21 Station Road\, Blisworth\, Northants\, NN7 3DS\, United Kingdom
CATEGORIES:Live Jazz
ATTACH;FMTTYPE=:
END:VEVENT
END:VCALENDAR