BEGIN:VCALENDAR
VERSION:2.0
PRODID:-//Walnut Tree Inn, Northampton - ECPv6.15.11//NONSGML v1.0//EN
CALSCALE:GREGORIAN
METHOD:PUBLISH
X-ORIGINAL-URL:https://www.walnut-tree.co.uk
X-WR-CALDESC:Events for Walnut Tree Inn, Northampton
REFRESH-INTERVAL;VALUE=DURATION:PT1H
X-Robots-Tag:noindex
X-PUBLISHED-TTL:PT1H
BEGIN:VTIMEZONE
TZID:UTC
BEGIN:STANDARD
TZOFFSETFROM:+0000
TZOFFSETTO:+0000
TZNAME:UTC
DTSTART:20250101T000000
END:STANDARD
END:VTIMEZONE
BEGIN:VEVENT
DTSTART;TZID=UTC:20260426T123000
DTEND;TZID=UTC:20260426T150000
DTSTAMP:20260421T113453
CREATED:20221220T143054Z
LAST-MODIFIED:20260325T154240Z
UID:10000834-1777206600-1777215600@www.walnut-tree.co.uk
SUMMARY:Harlem Vintage Big Band
DESCRIPTION:Superb 13-piece band featuring a host of Midlands jazz stars and Sarah Spencer (vocals). Do not miss this spectacular band! \nTickets £15.00 in advance.\nFor reservations and enquiries call Tad Newton on 01604 858549.
URL:https://www.walnut-tree.co.uk/event/harlem-vintage-big-band/
CATEGORIES:Live Jazz
ATTACH;FMTTYPE=image/jpeg:https://www.walnut-tree.co.uk/wp-content/uploads/2022/12/sarah-spencer-2.jpg
END:VEVENT
BEGIN:VEVENT
DTSTART;TZID=UTC:20260510T123000
DTEND;TZID=UTC:20260510T150000
DTSTAMP:20260421T113453
CREATED:20190327T174450Z
LAST-MODIFIED:20251207T092054Z
UID:10000679-1778416200-1778425200@www.walnut-tree.co.uk
SUMMARY:Tad Newton's Jazzfriends
DESCRIPTION:Tickets £15 on the door.\nFor reservations and enquiries call Tad Newton on 01604 858549.
URL:https://www.walnut-tree.co.uk/event/tad-newtons-jazz-friends/
LOCATION:Walnut Tree Inn\, 21 Station Road\, Blisworth\, Northants\, NN7 3DS\, United Kingdom
CATEGORIES:Live Jazz
ATTACH;FMTTYPE=image/jpeg:https://www.walnut-tree.co.uk/wp-content/uploads/2021/03/tad-newton.jpg
END:VEVENT
BEGIN:VEVENT
DTSTART;TZID=UTC:20260524T123000
DTEND;TZID=UTC:20260524T150000
DTSTAMP:20260421T113453
CREATED:20220226T132312Z
LAST-MODIFIED:20251207T092221Z
UID:10000797-1779625800-1779634800@www.walnut-tree.co.uk
SUMMARY:Richard Leach Street Band
DESCRIPTION:Richard Leach (trombone)\, Tony Pipkin (trumpet)\,  Zoltan Sagi (clarinet/sax)\, Mark Challinor (banjo)\, Dave Deakin (sousaphone) and Nick Ward (drums). \nTickets £15.00 in advance.\nFor reservations and enquiries call Tad Newton on 01604 858549.
URL:https://www.walnut-tree.co.uk/event/richard-leach-street-band/
CATEGORIES:Live Jazz
ATTACH;FMTTYPE=image/jpeg:https://www.walnut-tree.co.uk/wp-content/uploads/2022/02/Richard-leach-street-band.jpg
END:VEVENT
BEGIN:VEVENT
DTSTART;TZID=UTC:20260726T123000
DTEND;TZID=UTC:20260726T150000
DTSTAMP:20260421T113453
CREATED:20240711T083850Z
LAST-MODIFIED:20251207T092354Z
UID:10000879-1785069000-1785078000@www.walnut-tree.co.uk
SUMMARY:Greg Abate with Tad Newton's Jazz Friends
DESCRIPTION:Extra special session! \nTickets £15.00 in advance.\nFor reservations and enquiries call Tad Newton on 01604 858549.
URL:https://www.walnut-tree.co.uk/event/greg-abate-with-tad-newtons-jazz-friends-2/
CATEGORIES:Live Jazz
ATTACH;FMTTYPE=image/jpeg:https://www.walnut-tree.co.uk/wp-content/uploads/2021/03/greg-abate.jpg
END:VEVENT
END:VCALENDAR