BEGIN:VCALENDAR
VERSION:2.0
PRODID:-//Walnut Tree Inn, Northampton - ECPv6.15.11//NONSGML v1.0//EN
CALSCALE:GREGORIAN
METHOD:PUBLISH
X-WR-CALNAME:Walnut Tree Inn, Northampton
X-ORIGINAL-URL:https://www.walnut-tree.co.uk
X-WR-CALDESC:Events for Walnut Tree Inn, Northampton
REFRESH-INTERVAL;VALUE=DURATION:PT1H
X-Robots-Tag:noindex
X-PUBLISHED-TTL:PT1H
BEGIN:VTIMEZONE
TZID:UTC
BEGIN:STANDARD
TZOFFSETFROM:+0000
TZOFFSETTO:+0000
TZNAME:UTC
DTSTART:20200101T000000
END:STANDARD
END:VTIMEZONE
BEGIN:VEVENT
DTSTART;TZID=UTC:20210701T210000
DTEND;TZID=UTC:20210701T235000
DTSTAMP:20260425T034231
CREATED:20210529T123817Z
LAST-MODIFIED:20210718T155600Z
UID:10000770-1625173200-1625183400@www.walnut-tree.co.uk
SUMMARY:The Greg Coulson Band
DESCRIPTION:Greg Coulson is a multi-instrumentalist\, songwriter and gifted performer. An accomplished Pianist and Hammond player he is also a gifted guitarist and singer/songwriter specialising in Rhythm & Blues. 2010 saw the break Greg had been looking for\, at the age of 19 he joined the legendary two- tone band The Selecter. \nGreg’s heart has always been true to Rhythm & Blues and his own songwriting. He has managed to tour the UK with his own band\, taking his own brand of high octane\, fun and musically ingenious Blues to loyal audiences throughout the UK.
URL:https://www.walnut-tree.co.uk/event/the-greg-coulson-band/
LOCATION:Walnut Tree Inn\, 21 Station Road\, Blisworth\, Northants\, NN7 3DS\, United Kingdom
CATEGORIES:Live Music
ATTACH;FMTTYPE=image/jpeg:https://www.walnut-tree.co.uk/wp-content/uploads/2021/05/greg-couson.jpg
END:VEVENT
END:VCALENDAR