BEGIN:VCALENDAR
VERSION:2.0
PRODID:-//Walnut Tree Inn, Northampton - ECPv6.15.11//NONSGML v1.0//EN
CALSCALE:GREGORIAN
METHOD:PUBLISH
X-WR-CALNAME:Walnut Tree Inn, Northampton
X-ORIGINAL-URL:https://www.walnut-tree.co.uk
X-WR-CALDESC:Events for Walnut Tree Inn, Northampton
REFRESH-INTERVAL;VALUE=DURATION:PT1H
X-Robots-Tag:noindex
X-PUBLISHED-TTL:PT1H
BEGIN:VTIMEZONE
TZID:UTC
BEGIN:STANDARD
TZOFFSETFROM:+0000
TZOFFSETTO:+0000
TZNAME:UTC
DTSTART:20210101T000000
END:STANDARD
END:VTIMEZONE
BEGIN:VEVENT
DTSTART;TZID=UTC:20220305T210000
DTEND;TZID=UTC:20220305T234500
DTSTAMP:20260424T144842
CREATED:20210301T134938Z
LAST-MODIFIED:20211201T171644Z
UID:10000758-1646514000-1646523900@www.walnut-tree.co.uk
SUMMARY:The Mudsharks
DESCRIPTION:A tribute to the iconic music of Led Zeppelin. \nThe band faithfully delivers the true live sound of early 70s Zeppelin. \nNo wigs\, no dragon jumpsuits\, no bowler hats – it’s all about the music. \nThe name? Google it!
URL:https://www.walnut-tree.co.uk/event/the-mudsharks/
LOCATION:Walnut Tree Inn\, 21 Station Road\, Blisworth\, Northants\, NN7 3DS\, United Kingdom
CATEGORIES:Live Music
ATTACH;FMTTYPE=image/png:https://www.walnut-tree.co.uk/wp-content/uploads/2021/03/mudharks.png
END:VEVENT
BEGIN:VEVENT
DTSTART;TZID=UTC:20220325T210000
DTEND;TZID=UTC:20220325T235000
DTSTAMP:20260424T144842
CREATED:20221212T171520Z
LAST-MODIFIED:20221214T164506Z
UID:10000717-1648242000-1648252200@www.walnut-tree.co.uk
SUMMARY:Jukebox
DESCRIPTION:A three-four piece band based in Milton Keynes.  The band perform 60’s to modern pop and rock covers including Stevie Wonder\, Paul Simon\, David Bowie\, Lionel Richie\, Bruce Springsteen\, Daft Punk\, Mark Ronson\, Pharrell Williams\, Arctic Monkeys\, Drake and Ed Sheeran.
URL:https://www.walnut-tree.co.uk/event/jukebox/
CATEGORIES:Live Music
ATTACH;FMTTYPE=image/jpeg:https://www.walnut-tree.co.uk/wp-content/uploads/2022/12/jukebox-band-mk.jpg
END:VEVENT
END:VCALENDAR