BEGIN:VCALENDAR
VERSION:2.0
PRODID:-//Walnut Tree Inn, Northampton - ECPv6.15.11//NONSGML v1.0//EN
CALSCALE:GREGORIAN
METHOD:PUBLISH
X-WR-CALNAME:Walnut Tree Inn, Northampton
X-ORIGINAL-URL:https://www.walnut-tree.co.uk
X-WR-CALDESC:Events for Walnut Tree Inn, Northampton
REFRESH-INTERVAL;VALUE=DURATION:PT1H
X-Robots-Tag:noindex
X-PUBLISHED-TTL:PT1H
BEGIN:VTIMEZONE
TZID:UTC
BEGIN:STANDARD
TZOFFSETFROM:+0000
TZOFFSETTO:+0000
TZNAME:UTC
DTSTART:20210101T000000
END:STANDARD
END:VTIMEZONE
BEGIN:VEVENT
DTSTART;TZID=UTC:20220827T210000
DTEND;TZID=UTC:20220827T235000
DTSTAMP:20260424T072227
CREATED:20220323T081959Z
LAST-MODIFIED:20220323T081959Z
UID:10000805-1661634000-1661644200@www.walnut-tree.co.uk
SUMMARY:Murphy's Law
DESCRIPTION:Milton Keynes’ favourite covers band. Exceptional quality\, style\, rhythm and energy. Playing  70’s-90’s rock and pop covers from the likes of Queen\, Snow Patrol\, Stereophonics\, Pink Floyd\, Spencer Davis\, Don Henley\, Elton John and Eric Clapton. What could possibly go wrogn!
URL:https://www.walnut-tree.co.uk/event/murphys-law/
CATEGORIES:Live Music
ATTACH;FMTTYPE=image/jpeg:https://www.walnut-tree.co.uk/wp-content/uploads/2022/03/murphys-law.jpg
END:VEVENT
END:VCALENDAR