BEGIN:VCALENDAR
VERSION:2.0
PRODID:-//Walnut Tree Inn, Northampton - ECPv6.15.11//NONSGML v1.0//EN
CALSCALE:GREGORIAN
METHOD:PUBLISH
X-ORIGINAL-URL:https://www.walnut-tree.co.uk
X-WR-CALDESC:Events for Walnut Tree Inn, Northampton
REFRESH-INTERVAL;VALUE=DURATION:PT1H
X-Robots-Tag:noindex
X-PUBLISHED-TTL:PT1H
BEGIN:VTIMEZONE
TZID:UTC
BEGIN:STANDARD
TZOFFSETFROM:+0000
TZOFFSETTO:+0000
TZNAME:UTC
DTSTART:20220101T000000
END:STANDARD
END:VTIMEZONE
BEGIN:VEVENT
DTSTART;TZID=UTC:20230204T210000
DTEND;TZID=UTC:20230204T235000
DTSTAMP:20260423T212159
CREATED:20190327T185415Z
LAST-MODIFIED:20221212T170341Z
UID:10000577-1675544400-1675554600@www.walnut-tree.co.uk
SUMMARY:Soul Fever
DESCRIPTION:Established over 20 years ago\, Soul Fever are a seven-piece classic 60’s and 70’s soul covers band fronted by two female lead vocalists and supported by a brass section and backing vocalists. \nTheir repertoire includes James Brown\, Curtis Mayfield\, Sam & Dave\, Aretha Franklin\, Jean Knight\, Martha & The Vandellas\, Staple Sisters\, Wild Cherry\, Stevie Wonder\, Otis Redding\, Al Greene\, Heatwave\, Solomon Burke\, Bob & Earl\, Blues Brothers and Bill Withers.
URL:https://www.walnut-tree.co.uk/event/soul-fever/
LOCATION:Walnut Tree Inn\, 21 Station Road\, Blisworth\, Northants\, NN7 3DS\, United Kingdom
CATEGORIES:Live Music
ATTACH;FMTTYPE=image/jpeg:https://www.walnut-tree.co.uk/wp-content/uploads/2019/03/soul-fever.jpg
END:VEVENT
BEGIN:VEVENT
DTSTART;TZID=UTC:20230211T210000
DTEND;TZID=UTC:20230211T235000
DTSTAMP:20260423T212159
CREATED:20220108T132606Z
LAST-MODIFIED:20220926T073840Z
UID:10000790-1676149200-1676159400@www.walnut-tree.co.uk
SUMMARY:Groove Connection
DESCRIPTION:Groove Connection are a highly entertaining six piece function band fronted by two powerful female vocalists.  \nBacked by four talented musicians\, they perform compositions ranging from motown and soul songs of the funky 70’s & 80’s\, right through to the rip roaring groovy sounds of today’s chart toppers.
URL:https://www.walnut-tree.co.uk/event/groove-connection/
CATEGORIES:Live Music
ATTACH;FMTTYPE=image/jpeg:https://www.walnut-tree.co.uk/wp-content/uploads/2022/01/groove-connection-2.jpg
END:VEVENT
BEGIN:VEVENT
DTSTART;TZID=UTC:20230225T210000
DTEND;TZID=UTC:20230225T235000
DTSTAMP:20260423T212159
CREATED:20191126T161136Z
LAST-MODIFIED:20221212T170442Z
UID:10000728-1677358800-1677369000@www.walnut-tree.co.uk
SUMMARY:Mid Sensation Soul Band
DESCRIPTION:An exciting 6 piece soul and Tamla Motown band that get everyone on their feet! Covering material by James Brown\, Sam & Dave\, Otis Redding\, Wilson Pickett\, Elvis\, Bob Marley and others.
URL:https://www.walnut-tree.co.uk/event/mid-sensation-3/
LOCATION:Walnut Tree Inn\, 21 Station Road\, Blisworth\, Northants\, NN7 3DS\, United Kingdom
CATEGORIES:Live Music
ATTACH;FMTTYPE=image/jpeg:https://www.walnut-tree.co.uk/wp-content/uploads/2021/03/mid-sensation.jpg
END:VEVENT
END:VCALENDAR