BEGIN:VCALENDAR
VERSION:2.0
PRODID:-//Walnut Tree Inn, Northampton - ECPv6.15.11//NONSGML v1.0//EN
CALSCALE:GREGORIAN
METHOD:PUBLISH
X-WR-CALNAME:Walnut Tree Inn, Northampton
X-ORIGINAL-URL:https://www.walnut-tree.co.uk
X-WR-CALDESC:Events for Walnut Tree Inn, Northampton
REFRESH-INTERVAL;VALUE=DURATION:PT1H
X-Robots-Tag:noindex
X-PUBLISHED-TTL:PT1H
BEGIN:VTIMEZONE
TZID:UTC
BEGIN:STANDARD
TZOFFSETFROM:+0000
TZOFFSETTO:+0000
TZNAME:UTC
DTSTART:20220101T000000
END:STANDARD
END:VTIMEZONE
BEGIN:VEVENT
DTSTART;TZID=UTC:20230909T210000
DTEND;TZID=UTC:20230909T235000
DTSTAMP:20260423T081036
CREATED:20220108T132746Z
LAST-MODIFIED:20220926T073751Z
UID:10000791-1694293200-1694303400@www.walnut-tree.co.uk
SUMMARY:Groove Connection
DESCRIPTION:Groove Connection are a highly entertaining six piece function band fronted by two powerful female vocalists.  \nBacked by four talented musicians\, they perform compositions ranging from Motown and soul songs of the funky 70’s & 80’s\, right through to the rip roaring groovy sounds of today’s chart toppers.
URL:https://www.walnut-tree.co.uk/event/groove-connection-2/
CATEGORIES:Live Music
ATTACH;FMTTYPE=image/jpeg:https://www.walnut-tree.co.uk/wp-content/uploads/2022/01/groove-connection-2.jpg
END:VEVENT
END:VCALENDAR