BEGIN:VCALENDAR
VERSION:2.0
PRODID:-//Walnut Tree Inn, Northampton - ECPv6.15.11//NONSGML v1.0//EN
CALSCALE:GREGORIAN
METHOD:PUBLISH
X-ORIGINAL-URL:https://www.walnut-tree.co.uk
X-WR-CALDESC:Events for Walnut Tree Inn, Northampton
REFRESH-INTERVAL;VALUE=DURATION:PT1H
X-Robots-Tag:noindex
X-PUBLISHED-TTL:PT1H
BEGIN:VTIMEZONE
TZID:UTC
BEGIN:STANDARD
TZOFFSETFROM:+0000
TZOFFSETTO:+0000
TZNAME:UTC
DTSTART:20220101T000000
END:STANDARD
END:VTIMEZONE
BEGIN:VEVENT
DTSTART;TZID=UTC:20231111T210000
DTEND;TZID=UTC:20231111T235000
DTSTAMP:20260423T030453
CREATED:20221217T131654Z
LAST-MODIFIED:20230131T082846Z
UID:10000828-1699736400-1699746600@www.walnut-tree.co.uk
SUMMARY:Mid Sensation Soul Band
DESCRIPTION:An exciting 6 piece soul and Tamla Motown band that get everyone on their feet! Covering material by James Brown\, Sam & Dave\, Otis Redding\, Wilson Pickett\, Elvis\, Bob Marley and others.
URL:https://www.walnut-tree.co.uk/event/mid-sensation-soul-band/
CATEGORIES:Live Music
ATTACH;FMTTYPE=image/jpeg:https://www.walnut-tree.co.uk/wp-content/uploads/2021/03/1135058825-mid_sensation_2.jpg
END:VEVENT
END:VCALENDAR