BEGIN:VCALENDAR
VERSION:2.0
PRODID:-//Walnut Tree Inn, Northampton - ECPv6.15.11//NONSGML v1.0//EN
CALSCALE:GREGORIAN
METHOD:PUBLISH
X-WR-CALNAME:Walnut Tree Inn, Northampton
X-ORIGINAL-URL:https://www.walnut-tree.co.uk
X-WR-CALDESC:Events for Walnut Tree Inn, Northampton
REFRESH-INTERVAL;VALUE=DURATION:PT1H
X-Robots-Tag:noindex
X-PUBLISHED-TTL:PT1H
BEGIN:VTIMEZONE
TZID:UTC
BEGIN:STANDARD
TZOFFSETFROM:+0000
TZOFFSETTO:+0000
TZNAME:UTC
DTSTART:20230101T000000
END:STANDARD
END:VTIMEZONE
BEGIN:VEVENT
DTSTART;TZID=UTC:20240902T210000
DTEND;TZID=UTC:20240902T235000
DTSTAMP:20260420T032331
CREATED:20190327T135834Z
LAST-MODIFIED:20241105T152814Z
UID:10000566-1725310800-1725321000@www.walnut-tree.co.uk
SUMMARY:Pure Genius
DESCRIPTION:A 6 piece party band from Northants covering classic 60’s soul\, 70’s disco music\, reggae and pop. \nA wide variety of music including artists such as Wilson Pickett\, The Foundations\, Van Morrison\, Spencer Davis\, Cockney Rebel\, Elvis Costello\, Marvin Gaye\, Bill Withers\, Al Green\, Stevie Wonder\, Average White Band\, Doobie Brothers\, Bob Marley\, Simply Red and Jamiroquai. Great fun!
URL:https://www.walnut-tree.co.uk/event/pure-genius/
LOCATION:Walnut Tree Inn\, 21 Station Road\, Blisworth\, Northants\, NN7 3DS\, United Kingdom
CATEGORIES:Live Music
ATTACH;FMTTYPE=image/jpeg:https://www.walnut-tree.co.uk/wp-content/uploads/2021/11/pure-genius-3.jpg
END:VEVENT
BEGIN:VEVENT
DTSTART;TZID=UTC:20240914T210000
DTEND;TZID=UTC:20240914T235000
DTSTAMP:20260420T032331
CREATED:20190327T141118Z
LAST-MODIFIED:20240222T092133Z
UID:10000568-1726347600-1726357800@www.walnut-tree.co.uk
SUMMARY:The Tom Betts Band
DESCRIPTION:Four piece Northampton(ish) based rock band covering popular rock classics with energy and enthusiasm. From Free to Floyd\, Killers to Skynard; you will be engaged and entertained\, guaranteed!
URL:https://www.walnut-tree.co.uk/event/the-tom-betts-band/
LOCATION:Walnut Tree Inn\, 21 Station Road\, Blisworth\, Northants\, NN7 3DS\, United Kingdom
CATEGORIES:Live Music
ATTACH;FMTTYPE=image/jpeg:https://www.walnut-tree.co.uk/wp-content/uploads/2019/03/tom-betts-band.jpg
END:VEVENT
BEGIN:VEVENT
DTSTART;TZID=UTC:20240921T210000
DTEND;TZID=UTC:20240921T235000
DTSTAMP:20260420T032331
CREATED:20220523T181222Z
LAST-MODIFIED:20231207T163530Z
UID:10000812-1726952400-1726962600@www.walnut-tree.co.uk
SUMMARY:Roy and The Saracens
DESCRIPTION:Northants based 50’s – 70’s classic pop covers band.  Their repertoire includes Beatles\, Everly Brothers\, Elvis\, The Eagles\, Georgie Fame\, Four Tops\, The Drifters\, Roy Orbison\, Bruce Springsteen\, Stones\, Neil Young\, Buddy Holly\, Chuck Berry\, Jerry Lee Lewis\, Spencer Davis\, Rod Stewart\, Wilson Pickett\, Otis Redding\, Ben E King\, Rufus Thomas\, Jackie Wilson\, The Doors\, The Zombies\, Fats Domino\, Creedence Clearwater\, Moody Blues\, James Taylor and Righteous Brothers.
URL:https://www.walnut-tree.co.uk/event/roy-and-the-saracens/
LOCATION:Walnut Tree Inn\, 21 Station Road\, Blisworth\, Northants\, NN7 3DS\, United Kingdom
CATEGORIES:Live Music
ATTACH;FMTTYPE=image/jpeg:https://www.walnut-tree.co.uk/wp-content/uploads/2022/05/roy-and-the-saracens.jpg
END:VEVENT
BEGIN:VEVENT
DTSTART;TZID=UTC:20240928T210000
DTEND;TZID=UTC:20240928T235000
DTSTAMP:20260420T032331
CREATED:20220323T075911Z
LAST-MODIFIED:20240207T165608Z
UID:10000803-1727557200-1727567400@www.walnut-tree.co.uk
SUMMARY:Cheap Thrills
DESCRIPTION:A female-fronted\, 4 piece classic rock\, rhythm & blues band from Bedford\, UK. Featuring tracks from Fleetwood Mac\, Stones\, Police\, Blondie\, ZZ Top\, Bad Company\, Queen\, Tina Turner\, Joan Jett\, Whitesnake\, AC/DC. Post Malone\, Robert Palmer\, Tom Petty\, Black Crowes\, Santana.
URL:https://www.walnut-tree.co.uk/event/cheap-thrills/
CATEGORIES:Live Music
ATTACH;FMTTYPE=image/jpeg:https://www.walnut-tree.co.uk/wp-content/uploads/2022/03/cheap-thrills.jpg
END:VEVENT
END:VCALENDAR