BEGIN:VCALENDAR
VERSION:2.0
PRODID:-//Walnut Tree Inn, Northampton - ECPv6.15.11//NONSGML v1.0//EN
CALSCALE:GREGORIAN
METHOD:PUBLISH
X-ORIGINAL-URL:https://www.walnut-tree.co.uk
X-WR-CALDESC:Events for Walnut Tree Inn, Northampton
REFRESH-INTERVAL;VALUE=DURATION:PT1H
X-Robots-Tag:noindex
X-PUBLISHED-TTL:PT1H
BEGIN:VTIMEZONE
TZID:UTC
BEGIN:STANDARD
TZOFFSETFROM:+0000
TZOFFSETTO:+0000
TZNAME:UTC
DTSTART:20240101T000000
END:STANDARD
END:VTIMEZONE
BEGIN:VEVENT
DTSTART;TZID=UTC:20250315T210000
DTEND;TZID=UTC:20250315T235000
DTSTAMP:20260419T171736
CREATED:20211104T171636Z
LAST-MODIFIED:20241216T165333Z
UID:10000776-1742072400-1742082600@www.walnut-tree.co.uk
SUMMARY:The Furzey Suite
DESCRIPTION:The Furzey Suite play an eclectic mix of covers reflecting the diverse influences within the band. From 60’s Rock and R’n’B through 70’s Glam to 80’s/90’s/00’s Classic Rock\, Pop and more\, all songs are played with respect to the originals\, in their own style\, and always with passion! \nTheir set includes tracks from Dr Feelgood\, Oasis\, Green Day\, Thin Lizzy\, Paul Weller\, Spandau Ballet\, Queen\, Kings of Leon and many more!
URL:https://www.walnut-tree.co.uk/event/the-furzey-suite/
CATEGORIES:Live Music
ATTACH;FMTTYPE=image/jpeg:https://www.walnut-tree.co.uk/wp-content/uploads/2021/11/furzey-suite.jpg
END:VEVENT
BEGIN:VEVENT
DTSTART;TZID=UTC:20250322T210000
DTEND;TZID=UTC:20250322T235000
DTSTAMP:20260419T171736
CREATED:20190216T165101Z
LAST-MODIFIED:20241216T165433Z
UID:10000657-1742677200-1742687400@www.walnut-tree.co.uk
SUMMARY:Funktionality
DESCRIPTION:Milton Keynes based seven-piece function band fronted by two female singers and one male singer performing funk\, soul\, pop and rock genres. \nThe band have been established for six years and have a large and diverse repertoire of songs for every event. \nThey cover artists including: Chic\, Sister Sledge\, Rose Royce\, Heatwave\, Kool & The Gang\, Tina Turner\, James Brown\, Cee Lo Green\, Prince\, Stevie Wonder\, Jackson 5\, Toploader\, Lionel Richie\, Whitney Houston\, Bee Gees\, Blues Brothers\, B52s\, The Jam\, 10CC\, Bon Jovi\, Frankie Goes To Hollywood\, Jamiroquai\, Amy Winehouse\, Jessie J\, Mark Ronson\, Adele\, Plan B\, Bruno Mars and Daft Punk.
URL:https://www.walnut-tree.co.uk/event/funktionality/
LOCATION:Walnut Tree Inn\, 21 Station Road\, Blisworth\, Northants\, NN7 3DS\, United Kingdom
CATEGORIES:Live Music
ATTACH;FMTTYPE=image/jpeg:https://www.walnut-tree.co.uk/wp-content/uploads/2019/03/funktionality.jpg
END:VEVENT
BEGIN:VEVENT
DTSTART;TZID=UTC:20250329T210000
DTEND;TZID=UTC:20250329T235000
DTSTAMP:20260419T171736
CREATED:20231116T134501Z
LAST-MODIFIED:20250317T154325Z
UID:10000858-1743282000-1743292200@www.walnut-tree.co.uk
SUMMARY:Nightshift
DESCRIPTION:New to the Walnut Tree\, we are eagerly looking forward to Nightshift\, a Northampton-based 5-piece playing classic rock. pop and r’n’b tracks. An incredibly varied set including everything from Simple Minds to Eminem.
URL:https://www.walnut-tree.co.uk/event/nightshift/
CATEGORIES:Live Music
ATTACH;FMTTYPE=image/jpeg:https://www.walnut-tree.co.uk/wp-content/uploads/2023/11/nightshift2.jpg
END:VEVENT
END:VCALENDAR