BEGIN:VCALENDAR
VERSION:2.0
PRODID:-//Walnut Tree Inn, Northampton - ECPv6.15.11//NONSGML v1.0//EN
CALSCALE:GREGORIAN
METHOD:PUBLISH
X-WR-CALNAME:Walnut Tree Inn, Northampton
X-ORIGINAL-URL:https://www.walnut-tree.co.uk
X-WR-CALDESC:Events for Walnut Tree Inn, Northampton
REFRESH-INTERVAL;VALUE=DURATION:PT1H
X-Robots-Tag:noindex
X-PUBLISHED-TTL:PT1H
BEGIN:VTIMEZONE
TZID:UTC
BEGIN:STANDARD
TZOFFSETFROM:+0000
TZOFFSETTO:+0000
TZNAME:UTC
DTSTART:20200101T000000
END:STANDARD
END:VTIMEZONE
BEGIN:VEVENT
DTSTART;TZID=UTC:20211002T210000
DTEND;TZID=UTC:20211002T235000
DTSTAMP:20260425T001314
CREATED:20191126T160930Z
LAST-MODIFIED:20210504T175411Z
UID:10000727-1633208400-1633218600@www.walnut-tree.co.uk
SUMMARY:Rhythm and Roots
DESCRIPTION:A fabulous four-piece band from Northants performing mainly reggae plus some classic soul and Motown songs. \nTheir repertoire includes Bob Marley\, Gregory Isaacs\, Desmond Decker\, Jimmy Cliff\, Toots & the Maytals\, Sam Cooke\, The Drifters\, Bill Withers\, Wilson Pickett\, Ben E King\, UB40\, The Specials\, Sting and The Zutons.
URL:https://www.walnut-tree.co.uk/event/rhythm-and-roots-3/
LOCATION:Walnut Tree Inn\, 21 Station Road\, Blisworth\, Northants\, NN7 3DS\, United Kingdom
CATEGORIES:Live Music
ATTACH;FMTTYPE=image/jpeg:https://www.walnut-tree.co.uk/wp-content/uploads/2019/11/rhythm-n-roots.jpg
END:VEVENT
END:VCALENDAR