BEGIN:VCALENDAR
VERSION:2.0
PRODID:-//Walnut Tree Inn, Northampton - ECPv6.15.11//NONSGML v1.0//EN
CALSCALE:GREGORIAN
METHOD:PUBLISH
X-ORIGINAL-URL:https://www.walnut-tree.co.uk
X-WR-CALDESC:Events for Walnut Tree Inn, Northampton
REFRESH-INTERVAL;VALUE=DURATION:PT1H
X-Robots-Tag:noindex
X-PUBLISHED-TTL:PT1H
BEGIN:VTIMEZONE
TZID:UTC
BEGIN:STANDARD
TZOFFSETFROM:+0000
TZOFFSETTO:+0000
TZNAME:UTC
DTSTART:20210101T000000
END:STANDARD
END:VTIMEZONE
BEGIN:VEVENT
DTSTART;TZID=UTC:20220618T210000
DTEND;TZID=UTC:20220618T235000
DTSTAMP:20260424T134947
CREATED:20210422T142556Z
LAST-MODIFIED:20211122T103043Z
UID:10000766-1655586000-1655596200@www.walnut-tree.co.uk
SUMMARY:The Expletives
DESCRIPTION:Come and join us for a great Punk and New Wave outfit from Peterborough.  The Expletives are a high energy band performing songs by The Jam\, Sex Pistols\, Buzzcocks\, Undertones\, Blondie\, The Ruts\, The Specials\, Dr Feelgood\, The Clash\, Sham 69\, The Skids\, Ramones\, Kiss\, Iggy Pop\, Elvis Costello\, David Bowie\, The Dammed\, Gary Numan \, The Vapours\, Motörhead\, The Hives\, Stiff Little Fingers\, The Stranglers\, Ian Dury\, Ten Pole Tudor\, and much more. Performed with passion and pride. The Expletives\, a band not to be missed.
URL:https://www.walnut-tree.co.uk/event/the-expletives/
CATEGORIES:Live Music
ATTACH;FMTTYPE=image/jpeg:https://www.walnut-tree.co.uk/wp-content/uploads/2021/04/the-expletives.jpg
END:VEVENT
END:VCALENDAR