BEGIN:VCALENDAR
VERSION:2.0
PRODID:-//Walnut Tree Inn, Northampton - ECPv6.15.11//NONSGML v1.0//EN
CALSCALE:GREGORIAN
METHOD:PUBLISH
X-WR-CALNAME:Walnut Tree Inn, Northampton
X-ORIGINAL-URL:https://www.walnut-tree.co.uk
X-WR-CALDESC:Events for Walnut Tree Inn, Northampton
REFRESH-INTERVAL;VALUE=DURATION:PT1H
X-Robots-Tag:noindex
X-PUBLISHED-TTL:PT1H
BEGIN:VTIMEZONE
TZID:UTC
BEGIN:STANDARD
TZOFFSETFROM:+0000
TZOFFSETTO:+0000
TZNAME:UTC
DTSTART:20210101T000000
END:STANDARD
END:VTIMEZONE
BEGIN:VEVENT
DTSTART;TZID=UTC:20221119T210000
DTEND;TZID=UTC:20221119T235000
DTSTAMP:20260424T041320
CREATED:20220323T083351Z
LAST-MODIFIED:20220323T143555Z
UID:10000806-1668891600-1668901800@www.walnut-tree.co.uk
SUMMARY:Mat Roberts Band
DESCRIPTION:Bedfordshire based trio fronted by multi-instrumentalist and singer Mat Roberts.  Mat has been writing\, recording and playing music since 1990 and has his own studio.  A highlight of his career was when he sang ‘Kiss’ on stage with Prince for a small launch party in London in 1999.  His band perform a large and diverse repertoire ranging from the 50’s to current pop\, rock\, ska and reggae songs.  Artists covered include Elvis\, Buddy Holly\, Beatles\, Rolling Stones\, T Rex\, Stevie Wonder\, Billy Joel\, Ben E King\, Nirvana\, The Jam\, Madness\, The Specials\, Prince\, David Bowie\, George Michael\, Duran Duran\, Pulp\, Oasis\, Bob Marley\, Ed Sheeran and Bruno Mars.
URL:https://www.walnut-tree.co.uk/event/mat-roberts-band/
CATEGORIES:Live Music
ATTACH;FMTTYPE=image/jpeg:https://www.walnut-tree.co.uk/wp-content/uploads/2022/03/mat-roberts.jpg
END:VEVENT
END:VCALENDAR