BEGIN:VCALENDAR
VERSION:2.0
PRODID:-//Walnut Tree Inn, Northampton - ECPv6.15.11//NONSGML v1.0//EN
CALSCALE:GREGORIAN
METHOD:PUBLISH
X-WR-CALNAME:Walnut Tree Inn, Northampton
X-ORIGINAL-URL:https://www.walnut-tree.co.uk
X-WR-CALDESC:Events for Walnut Tree Inn, Northampton
REFRESH-INTERVAL;VALUE=DURATION:PT1H
X-Robots-Tag:noindex
X-PUBLISHED-TTL:PT1H
BEGIN:VTIMEZONE
TZID:UTC
BEGIN:STANDARD
TZOFFSETFROM:+0000
TZOFFSETTO:+0000
TZNAME:UTC
DTSTART:20220101T000000
END:STANDARD
END:VTIMEZONE
BEGIN:VEVENT
DTSTART;TZID=UTC:20230826T210000
DTEND;TZID=UTC:20230826T235000
DTSTAMP:20260423T111825
CREATED:20230826T122316Z
LAST-MODIFIED:20230826T122954Z
UID:10000851-1693083600-1693093800@www.walnut-tree.co.uk
SUMMARY:DJ Errol
DESCRIPTION:Previously booked band: Sonic Vultures\, have apologised that due to personal reasons they are unable to attend. Errol has kindly stepped in to take their place. \nDJ Errol will keep you on your feet with floor fillers from Motown to the present day!
URL:https://www.walnut-tree.co.uk/event/dj-errol/
CATEGORIES:Live Music
ATTACH;FMTTYPE=image/jpeg:https://www.walnut-tree.co.uk/wp-content/uploads/2023/08/djerrol.jpg
END:VEVENT
END:VCALENDAR