BEGIN:VCALENDAR
VERSION:2.0
PRODID:-//Walnut Tree Inn, Northampton - ECPv6.15.11//NONSGML v1.0//EN
CALSCALE:GREGORIAN
METHOD:PUBLISH
X-ORIGINAL-URL:https://www.walnut-tree.co.uk
X-WR-CALDESC:Events for Walnut Tree Inn, Northampton
REFRESH-INTERVAL;VALUE=DURATION:PT1H
X-Robots-Tag:noindex
X-PUBLISHED-TTL:PT1H
BEGIN:VTIMEZONE
TZID:UTC
BEGIN:STANDARD
TZOFFSETFROM:+0000
TZOFFSETTO:+0000
TZNAME:UTC
DTSTART:20220101T000000
END:STANDARD
END:VTIMEZONE
BEGIN:VEVENT
DTSTART;TZID=UTC:20231216T210000
DTEND;TZID=UTC:20231216T235000
DTSTAMP:20260423T012124
CREATED:20231208T201945Z
LAST-MODIFIED:20231208T201945Z
UID:10000862-1702760400-1702770600@www.walnut-tree.co.uk
SUMMARY:The Usual Suspects
DESCRIPTION:Five-piece party band from Northants performing 60’s to current indie pop & rock. They play up tempo songs to get everyone dancing and artists covered in their repertoire include The Kinks\, The Who\, T. Rex\, James\, David Bowie\, Wild Cherry\, U2\, The Jam\, Bryan Adams\, Shed 7\, Radiohead\, Paul Weller\, The Coral\, Black Crowes\, Foo Fighters\, Oasis\, The Strokes\, Kula Shaker\, Stereophonics\, Jessie J\, Walk the Moon and George Ezra.
URL:https://www.walnut-tree.co.uk/event/the-usual-suspects-3/
CATEGORIES:Live Music
ATTACH;FMTTYPE=image/jpeg:https://www.walnut-tree.co.uk/wp-content/uploads/2019/11/usual-suspects-band.jpg
END:VEVENT
END:VCALENDAR