BEGIN:VCALENDAR
VERSION:2.0
PRODID:-//Walnut Tree Inn, Northampton - ECPv6.15.11//NONSGML v1.0//EN
CALSCALE:GREGORIAN
METHOD:PUBLISH
X-WR-CALNAME:Walnut Tree Inn, Northampton
X-ORIGINAL-URL:https://www.walnut-tree.co.uk
X-WR-CALDESC:Events for Walnut Tree Inn, Northampton
REFRESH-INTERVAL;VALUE=DURATION:PT1H
X-Robots-Tag:noindex
X-PUBLISHED-TTL:PT1H
BEGIN:VTIMEZONE
TZID:UTC
BEGIN:STANDARD
TZOFFSETFROM:+0000
TZOFFSETTO:+0000
TZNAME:UTC
DTSTART:20230101T000000
END:STANDARD
END:VTIMEZONE
BEGIN:VEVENT
DTSTART;TZID=UTC:20240401T210000
DTEND;TZID=UTC:20240401T235000
DTSTAMP:20260422T171233
CREATED:20231206T164923Z
LAST-MODIFIED:20240528T065125Z
UID:10000861-1712005200-1712015400@www.walnut-tree.co.uk
SUMMARY:The Estrellas
DESCRIPTION:Six-piece party band from Milton Keynes\, fronted by male and female singers.  They cover 60’s to current pop songs by artists including Erasure\, Dan Hartman\, Modern Talking\, U2\, Bon Jovi\, Dakota\, Chic\, Bob Marley and Portugal.
URL:https://www.walnut-tree.co.uk/event/the-estrellas/
CATEGORIES:Live Music
ATTACH;FMTTYPE=image/jpeg:https://www.walnut-tree.co.uk/wp-content/uploads/2023/12/estrellas.jpg
END:VEVENT
END:VCALENDAR