BEGIN:VCALENDAR
VERSION:2.0
PRODID:-//Walnut Tree Inn, Northampton - ECPv6.15.11//NONSGML v1.0//EN
CALSCALE:GREGORIAN
METHOD:PUBLISH
X-ORIGINAL-URL:https://www.walnut-tree.co.uk
X-WR-CALDESC:Events for Walnut Tree Inn, Northampton
REFRESH-INTERVAL;VALUE=DURATION:PT1H
X-Robots-Tag:noindex
X-PUBLISHED-TTL:PT1H
BEGIN:VTIMEZONE
TZID:UTC
BEGIN:STANDARD
TZOFFSETFROM:+0000
TZOFFSETTO:+0000
TZNAME:UTC
DTSTART:20230101T000000
END:STANDARD
END:VTIMEZONE
BEGIN:VEVENT
DTSTART;TZID=UTC:20240810T210000
DTEND;TZID=UTC:20240810T233000
DTSTAMP:20260420T071641
CREATED:20221220T072310Z
LAST-MODIFIED:20231207T163107Z
UID:10000831-1723323600-1723332600@www.walnut-tree.co.uk
SUMMARY:Vintage Stuff
DESCRIPTION:Bedfordshire based five-piece rock and rock ’n’ roll band covering 50’s to 70’s songs.  Established in 2017\, the band cover artists including Beatles\, Zombies\, Blues Brothers\, Small Faces\, Stones\, Chuck Berry\, Thin Lizzy\, T Rex\, Santana\, Animals\, Eric Clapton\, Eagles\, Drifters\, Stray Cats\, Robert Parker\, Stevie Ray Vaughan\, Dr Feelgood\, Cliff Richard\, Etta James and Lynyrd Skynyrd
URL:https://www.walnut-tree.co.uk/event/vintage-stuff/
CATEGORIES:Live Music
ATTACH;FMTTYPE=image/jpeg:https://www.walnut-tree.co.uk/wp-content/uploads/2022/12/vintage-stuff.jpg
END:VEVENT
END:VCALENDAR