BEGIN:VCALENDAR
VERSION:2.0
PRODID:-//Walnut Tree Inn, Northampton - ECPv6.15.11//NONSGML v1.0//EN
CALSCALE:GREGORIAN
METHOD:PUBLISH
X-WR-CALNAME:Walnut Tree Inn, Northampton
X-ORIGINAL-URL:https://www.walnut-tree.co.uk
X-WR-CALDESC:Events for Walnut Tree Inn, Northampton
REFRESH-INTERVAL;VALUE=DURATION:PT1H
X-Robots-Tag:noindex
X-PUBLISHED-TTL:PT1H
BEGIN:VTIMEZONE
TZID:UTC
BEGIN:STANDARD
TZOFFSETFROM:+0000
TZOFFSETTO:+0000
TZNAME:UTC
DTSTART:20230101T000000
END:STANDARD
END:VTIMEZONE
BEGIN:VEVENT
DTSTART;TZID=UTC:20241116T210000
DTEND;TZID=UTC:20241116T235000
DTSTAMP:20260420T013906
CREATED:20220127T145344Z
LAST-MODIFIED:20230921T110659Z
UID:10000796-1731790800-1731801000@www.walnut-tree.co.uk
SUMMARY:The Indie Scene
DESCRIPTION:The Indie Scene are a classic four-piece line up\, playing tunes from the great guitar bands of the 90s era\, including The Stone Roses\, Oasis\, Ocean Colour Scene\, Primal Scream\, The Charlatans\, Happy Mondays\, Cast\, Dodgy\, Kula Shaker and more. \nThe band all grew up playing their part in original local bands but are now on a mission to celebrate and bring together the best music from the great revolutions of Madchester\, Britpop and Baggy.  Whether you grew up in the 90’s or just love the music\, The Indie Scene will not disappoint.
URL:https://www.walnut-tree.co.uk/event/the-indie-scene-2/
CATEGORIES:Live Music
ATTACH;FMTTYPE=image/jpeg:https://www.walnut-tree.co.uk/wp-content/uploads/2022/01/the-indie-scene.jpg
END:VEVENT
END:VCALENDAR