BEGIN:VCALENDAR
VERSION:2.0
PRODID:-//Walnut Tree Inn, Northampton - ECPv6.15.11//NONSGML v1.0//EN
CALSCALE:GREGORIAN
METHOD:PUBLISH
X-ORIGINAL-URL:https://www.walnut-tree.co.uk
X-WR-CALDESC:Events for Walnut Tree Inn, Northampton
REFRESH-INTERVAL;VALUE=DURATION:PT1H
X-Robots-Tag:noindex
X-PUBLISHED-TTL:PT1H
BEGIN:VTIMEZONE
TZID:UTC
BEGIN:STANDARD
TZOFFSETFROM:+0000
TZOFFSETTO:+0000
TZNAME:UTC
DTSTART:20230101T000000
END:STANDARD
END:VTIMEZONE
BEGIN:VEVENT
DTSTART;TZID=UTC:20241130T210000
DTEND;TZID=UTC:20241130T235000
DTSTAMP:20260419T234430
CREATED:20190312T122459Z
LAST-MODIFIED:20240201T084447Z
UID:10000665-1733000400-1733010600@www.walnut-tree.co.uk
SUMMARY:Funk Odyssey
DESCRIPTION:Funk Odyssey are a 5-piece band based in Bedford. Their set contains one smash hit after the next and includes various medleys of continuous music to keep everyone on the dancing. Consisting of an exceptional female vocalist and one of the tightest rhythm sections around\, they play dance floor fillers from the likes of Donna Summer\, Chic\, Kool and the Gang\, Rose Royce\, Randy Crawford\, Daft Punk and many others.
URL:https://www.walnut-tree.co.uk/event/funk-odyssey-2/
LOCATION:Walnut Tree Inn\, 21 Station Road\, Blisworth\, Northants\, NN7 3DS\, United Kingdom
CATEGORIES:Live Music
ATTACH;FMTTYPE=image/png:https://www.walnut-tree.co.uk/wp-content/uploads/2019/02/funk-odyssey.png
END:VEVENT
END:VCALENDAR