BEGIN:VCALENDAR
VERSION:2.0
PRODID:-//Walnut Tree Inn, Northampton - ECPv6.15.11//NONSGML v1.0//EN
CALSCALE:GREGORIAN
METHOD:PUBLISH
X-WR-CALNAME:Walnut Tree Inn, Northampton
X-ORIGINAL-URL:https://www.walnut-tree.co.uk
X-WR-CALDESC:Events for Walnut Tree Inn, Northampton
REFRESH-INTERVAL;VALUE=DURATION:PT1H
X-Robots-Tag:noindex
X-PUBLISHED-TTL:PT1H
BEGIN:VTIMEZONE
TZID:UTC
BEGIN:STANDARD
TZOFFSETFROM:+0000
TZOFFSETTO:+0000
TZNAME:UTC
DTSTART:20240101T000000
END:STANDARD
END:VTIMEZONE
BEGIN:VEVENT
DTSTART;TZID=UTC:20250405T210000
DTEND;TZID=UTC:20250405T235000
DTSTAMP:20260419T171732
CREATED:20250129T123846Z
LAST-MODIFIED:20250129T151651Z
UID:10000892-1743886800-1743897000@www.walnut-tree.co.uk
SUMMARY:Allergy
DESCRIPTION:Hertfordshire based pop & rock indie covers trio performing a very large and diverse repertoire. Songs range from the 60’s to current day and include Arctic Monkeys\, Biffy Clyro\, Blur\, The Cure\, David Bowie\, Dizzee Rascal\, Faithless\, Foo Fighters\, Fratellis\, Green Day\, The Jam\, James\, The Killers\, Muse\, Nirvana\, Placebo\, Pulp\, Queen\, Radiohead\, REM\, Simple Minds\, The Stranglers\, Strokes\, Talking Heads\, Tinie Tempah\, Vaccines and The Who.
URL:https://www.walnut-tree.co.uk/event/allergy/
CATEGORIES:Live Music
ATTACH;FMTTYPE=image/jpeg:https://www.walnut-tree.co.uk/wp-content/uploads/2025/01/allergy-band.jpg
END:VEVENT
END:VCALENDAR