BEGIN:VCALENDAR
VERSION:2.0
PRODID:-//Walnut Tree Inn, Northampton - ECPv6.15.11//NONSGML v1.0//EN
CALSCALE:GREGORIAN
METHOD:PUBLISH
X-ORIGINAL-URL:https://www.walnut-tree.co.uk
X-WR-CALDESC:Events for Walnut Tree Inn, Northampton
REFRESH-INTERVAL;VALUE=DURATION:PT1H
X-Robots-Tag:noindex
X-PUBLISHED-TTL:PT1H
BEGIN:VTIMEZONE
TZID:UTC
BEGIN:STANDARD
TZOFFSETFROM:+0000
TZOFFSETTO:+0000
TZNAME:UTC
DTSTART:20240101T000000
END:STANDARD
END:VTIMEZONE
BEGIN:VEVENT
DTSTART;TZID=UTC:20250517T210000
DTEND;TZID=UTC:20250517T235000
DTSTAMP:20260419T154403
CREATED:20240426T102243Z
LAST-MODIFIED:20250129T122343Z
UID:10000873-1747515600-1747525800@www.walnut-tree.co.uk
SUMMARY:All about Everything
DESCRIPTION:Female fronted four-piece powerhouse ensemble from Northants performing classic to modern covers.  Their diverse repertoire spans pop\, rock\, funk and jazz genres ensuring a party vibe to keep the dance floor packed and includes songs by The Killers\, Oasis\, Abba\, Wild Cherry\, Robbie Williams\, Daft Punk\, Reef\, Adele\, Katy Perry\, Amy Winehouse\, Jessie J\, Kings of Leon and Stereophonics.
URL:https://www.walnut-tree.co.uk/event/all-about-everything/
CATEGORIES:Live Music
ATTACH;FMTTYPE=image/jpeg:https://www.walnut-tree.co.uk/wp-content/uploads/2024/04/allabouteverything.jpg
END:VEVENT
END:VCALENDAR