BEGIN:VCALENDAR
VERSION:2.0
PRODID:-//Walnut Tree Inn, Northampton - ECPv6.15.11//NONSGML v1.0//EN
CALSCALE:GREGORIAN
METHOD:PUBLISH
X-ORIGINAL-URL:https://www.walnut-tree.co.uk
X-WR-CALDESC:Events for Walnut Tree Inn, Northampton
REFRESH-INTERVAL;VALUE=DURATION:PT1H
X-Robots-Tag:noindex
X-PUBLISHED-TTL:PT1H
BEGIN:VTIMEZONE
TZID:UTC
BEGIN:STANDARD
TZOFFSETFROM:+0000
TZOFFSETTO:+0000
TZNAME:UTC
DTSTART:20180101T000000
END:STANDARD
END:VTIMEZONE
BEGIN:VEVENT
DTSTART;TZID=UTC:20190901T190000
DTEND;TZID=UTC:20190901T220000
DTSTAMP:20260424T185101
CREATED:20190819T161221Z
LAST-MODIFIED:20190819T161221Z
UID:10000588-1567364400-1567375200@www.walnut-tree.co.uk
SUMMARY:Italian Kitchen Takeover with Carmela Sereno Hayes
DESCRIPTION:Carmela is a published author of two fantastic Italian cookery books\, ‘Southern Italian Family Cooking’ and ‘A Passion for Pasta’\, released the 2nd May this year.  Carmela is a pastaia (specialist pasta maker)\, demonstrator\, author and food writer. Cooking simple\, inexpensive\, seasonal dishes whilst using good quality seasonal ingredients as her mantra. \nShe joins us in the kitchen\, working with our chefs to devise and produce an Italian themed menu\, which will be published in September \nLimited places available\, Book online here or call us on 01604 859551. \nCheck out Carmels’s website with details of recipes\, her books of Italian Cookery and information about courses and events she hosts:\nhttps://carmelas-kitchen.com
URL:https://www.walnut-tree.co.uk/event/italian-kitchen-takeover-with-carmela-sereno-hayes/
LOCATION:Walnut Tree Inn\, 21 Station Road\, Blisworth\, Northants\, NN7 3DS\, United Kingdom
CATEGORIES:Occasions
ATTACH;FMTTYPE=:
END:VEVENT
END:VCALENDAR